BEGIN:VCALENDAR
VERSION:2.0
PRODID:-//https://www.uc-baltic.de///NONSGML kigkonsult.se iCalcreator 2.10.15//
METHOD:PUBLISH
BEGIN:VEVENT
UID:20260420T021948CEST-8954loUGc3@https://www.uc-baltic.de/
DTSTAMP:20260420T001948Z
DESCRIPTION: https://www.uc-baltic.de/veranstaltungen/kalender/ereignis/160
 1-flossenschwimmen-mo-19-00-20-00-uhr-bahn-1-2-und-3-im-tiefen-bereich
DTSTART:20250811T170000Z
DTEND:20250811T180000Z
LOCATION:Campusbad (Thomas-Fincke-Straße 19\, 24943 Flensburg)
SUMMARY:Flossenschwimmen\, Mo 19:00 - 20:00 Uhr\; Bahn 1\, 2 und 3 im tiefe
 n Bereich
URL:https://www.uc-baltic.de/veranstaltungen/kalender/ereignis/1601-flossen
 schwimmen-mo-19-00-20-00-uhr-bahn-1-2-und-3-im-tiefen-bereich
END:VEVENT
BEGIN:VEVENT
UID:20260420T021948CEST-8958RU9I6u@https://www.uc-baltic.de/
DTSTAMP:20260420T001948Z
DESCRIPTION: https://www.uc-baltic.de/veranstaltungen/kalender/ereignis/160
 6-flossenschwimmen-do-16-00-17-00-unr-bahn-5-im-flachen-bereich
DTSTART:20250814T140000Z
DTEND:20250814T150000Z
LOCATION:Campusbad (Thomas-Fincke-Straße 19\, 24943 Flensburg)
SUMMARY:Flossenschwimmen\, Do 16:00 - 17:00 Unr\, Bahn 5 im flachen Bereich
URL:https://www.uc-baltic.de/veranstaltungen/kalender/ereignis/1606-flossen
 schwimmen-do-16-00-17-00-unr-bahn-5-im-flachen-bereich
END:VEVENT
END:VCALENDAR
