BEGIN:VCALENDAR
VERSION:2.0
PRODID:-//https://www.uc-baltic.de///NONSGML kigkonsult.se iCalcreator 2.10.15//
METHOD:PUBLISH
BEGIN:VEVENT
UID:20260423T211446CEST-3784uXPaM4@https://www.uc-baltic.de/
DTSTAMP:20260423T191446Z
DESCRIPTION: https://www.uc-baltic.de/veranstaltungen/kalender/ereignis/435
 -clubabend
DTSTART:20230811T180000Z
DTEND:20230811T210000Z
LOCATION:Clubheim UC Baltic ()
SUMMARY:Clubabend
URL:https://www.uc-baltic.de/veranstaltungen/kalender/ereignis/435-clubaben
 d
END:VEVENT
END:VCALENDAR
