BEGIN:VCALENDAR
VERSION:2.0
PRODID:-//https://www.uc-baltic.de///NONSGML kigkonsult.se iCalcreator 2.10.15//
METHOD:PUBLISH
BEGIN:VEVENT
UID:20260423T000938CEST-61356L53nI@https://www.uc-baltic.de/
DTSTAMP:20260422T220938Z
DESCRIPTION: https://www.uc-baltic.de/veranstaltungen/kalender/ereignis/101
 6-clubabend
DTSTART:20240809T170000Z
DTEND:20240809T215900Z
LOCATION:Clubheim UC Baltic ()
SUMMARY:Clubabend
URL:https://www.uc-baltic.de/veranstaltungen/kalender/ereignis/1016-clubabe
 nd
END:VEVENT
BEGIN:VEVENT
UID:20260423T000938CEST-6138CvIc2l@https://www.uc-baltic.de/
DTSTAMP:20260422T220938Z
DESCRIPTION: https://www.uc-baltic.de/veranstaltungen/kalender/ereignis/112
 6-flossenschwimmen-mo-19-20-uhr
DTSTART:20240805T170000Z
DTEND:20240805T180000Z
LOCATION:Campusbad (Thomas-Fincke-Straße 19\, 24943 Flensburg)
SUMMARY:Flossenschwimmen\, Mo 19 - 20 Uhr
URL:https://www.uc-baltic.de/veranstaltungen/kalender/ereignis/1126-flossen
 schwimmen-mo-19-20-uhr
END:VEVENT
BEGIN:VEVENT
UID:20260423T000938CEST-6140oUvE1u@https://www.uc-baltic.de/
DTSTAMP:20260422T220938Z
DESCRIPTION: https://www.uc-baltic.de/veranstaltungen/kalender/ereignis/113
 1-flossenschwimmen-mo-20-21-uhr
DTSTART:20240805T180000Z
DTEND:20240805T190000Z
LOCATION:Campusbad (Thomas-Fincke-Straße 19\, 24943 Flensburg)
SUMMARY:Flossenschwimmen\, Mo 20 - 21 Uhr
URL:https://www.uc-baltic.de/veranstaltungen/kalender/ereignis/1131-flossen
 schwimmen-mo-20-21-uhr
END:VEVENT
BEGIN:VEVENT
UID:20260423T000938CEST-6142XZh00F@https://www.uc-baltic.de/
DTSTAMP:20260422T220938Z
DESCRIPTION: https://www.uc-baltic.de/veranstaltungen/kalender/ereignis/113
 6-uw-rugby-mo-20-21-uhr
DTSTART:20240805T180000Z
DTEND:20240805T190000Z
LOCATION:Campusbad (Thomas-Fincke-Straße 19\, 24943 Flensburg)
SUMMARY:UW-Rugby\, Mo 20 - 21 Uhr
URL:https://www.uc-baltic.de/veranstaltungen/kalender/ereignis/1136-uw-rugb
 y-mo-20-21-uhr
END:VEVENT
BEGIN:VEVENT
UID:20260423T000938CEST-6145me5TrH@https://www.uc-baltic.de/
DTSTAMP:20260422T220938Z
DESCRIPTION: https://www.uc-baltic.de/veranstaltungen/kalender/ereignis/114
 1-flossenschwimmen-di-19-20-uhr-bahn-8-tiefer-bereich
DTSTART:20240806T170000Z
DTEND:20240806T180000Z
LOCATION:Campusbad (Thomas-Fincke-Straße 19\, 24943 Flensburg)
SUMMARY:Flossenschwimmen\, Di 19 - 20 Uhr\, Bahn 8\, tiefer Bereich
URL:https://www.uc-baltic.de/veranstaltungen/kalender/ereignis/1141-flossen
 schwimmen-di-19-20-uhr-bahn-8-tiefer-bereich
END:VEVENT
BEGIN:VEVENT
UID:20260423T000938CEST-61474bNl3i@https://www.uc-baltic.de/
DTSTAMP:20260422T220938Z
DESCRIPTION: https://www.uc-baltic.de/veranstaltungen/kalender/ereignis/114
 8-flossenschwimmen-do-16-17-uhr-bahn-8-tiefer-bereich
DTSTART:20240808T140000Z
DTEND:20240808T150000Z
LOCATION:Campusbad (Thomas-Fincke-Straße 19\, 24943 Flensburg)
SUMMARY:Flossenschwimmen\, Do 16 - 17 Uhr\, Bahn 8*\, tiefer Bereich
URL:https://www.uc-baltic.de/veranstaltungen/kalender/ereignis/1148-flossen
 schwimmen-do-16-17-uhr-bahn-8-tiefer-bereich
END:VEVENT
END:VCALENDAR
