BEGIN:VCALENDAR
VERSION:2.0
PRODID:-//https://www.uc-baltic.de///NONSGML kigkonsult.se iCalcreator 2.10.15//
METHOD:PUBLISH
BEGIN:VEVENT
UID:20260423T000937CEST-6244h3DuUO@https://www.uc-baltic.de/
DTSTAMP:20260422T220937Z
DESCRIPTION: https://www.uc-baltic.de/veranstaltungen/kalender/ereignis/112
 5-flossenschwimmen-mo-19-20-uhr
DTSTART:20240729T170000Z
DTEND:20240729T180000Z
LOCATION:Campusbad (Thomas-Fincke-Straße 19\, 24943 Flensburg)
SUMMARY:Flossenschwimmen\, Mo 19 - 20 Uhr
URL:https://www.uc-baltic.de/veranstaltungen/kalender/ereignis/1125-flossen
 schwimmen-mo-19-20-uhr
END:VEVENT
BEGIN:VEVENT
UID:20260423T000937CEST-6247T0wVXg@https://www.uc-baltic.de/
DTSTAMP:20260422T220937Z
DESCRIPTION: https://www.uc-baltic.de/veranstaltungen/kalender/ereignis/113
 0-flossenschwimmen-mo-20-21-uhr
DTSTART:20240729T180000Z
DTEND:20240729T190000Z
LOCATION:Campusbad (Thomas-Fincke-Straße 19\, 24943 Flensburg)
SUMMARY:Flossenschwimmen\, Mo 20 - 21 Uhr
URL:https://www.uc-baltic.de/veranstaltungen/kalender/ereignis/1130-flossen
 schwimmen-mo-20-21-uhr
END:VEVENT
BEGIN:VEVENT
UID:20260423T000937CEST-6250vD61fz@https://www.uc-baltic.de/
DTSTAMP:20260422T220937Z
DESCRIPTION: https://www.uc-baltic.de/veranstaltungen/kalender/ereignis/113
 5-uw-rugby-mo-20-21-uhr
DTSTART:20240729T180000Z
DTEND:20240729T190000Z
LOCATION:Campusbad (Thomas-Fincke-Straße 19\, 24943 Flensburg)
SUMMARY:UW-Rugby\, Mo 20 - 21 Uhr
URL:https://www.uc-baltic.de/veranstaltungen/kalender/ereignis/1135-uw-rugb
 y-mo-20-21-uhr
END:VEVENT
BEGIN:VEVENT
UID:20260423T000937CEST-6252uz8iBH@https://www.uc-baltic.de/
DTSTAMP:20260422T220937Z
DESCRIPTION: https://www.uc-baltic.de/veranstaltungen/kalender/ereignis/114
 0-flossenschwimmen-di-19-20-uhr-bahn-8-tiefer-bereich
DTSTART:20240730T170000Z
DTEND:20240730T180000Z
LOCATION:Campusbad (Thomas-Fincke-Straße 19\, 24943 Flensburg)
SUMMARY:Flossenschwimmen\, Di 19 - 20 Uhr\, Bahn 8\, tiefer Bereich
URL:https://www.uc-baltic.de/veranstaltungen/kalender/ereignis/1140-flossen
 schwimmen-di-19-20-uhr-bahn-8-tiefer-bereich
END:VEVENT
BEGIN:VEVENT
UID:20260423T000937CEST-6255aRux7u@https://www.uc-baltic.de/
DTSTAMP:20260422T220937Z
DESCRIPTION: https://www.uc-baltic.de/veranstaltungen/kalender/ereignis/114
 7-flossenschwimmen-do-16-17-uhr-bahn-8-tiefer-bereich
DTSTART:20240801T140000Z
DTEND:20240801T150000Z
LOCATION:Campusbad (Thomas-Fincke-Straße 19\, 24943 Flensburg)
SUMMARY:Flossenschwimmen\, Do 16 - 17 Uhr\, Bahn 8*\, tiefer Bereich
URL:https://www.uc-baltic.de/veranstaltungen/kalender/ereignis/1147-flossen
 schwimmen-do-16-17-uhr-bahn-8-tiefer-bereich
END:VEVENT
END:VCALENDAR
