BEGIN:VCALENDAR
VERSION:2.0
PRODID:-//https://www.uc-baltic.de///NONSGML kigkonsult.se iCalcreator 2.10.15//
METHOD:PUBLISH
BEGIN:VEVENT
UID:20260423T225837CEST-5394LzOAp7@https://www.uc-baltic.de/
DTSTAMP:20260423T205837Z
DESCRIPTION: https://www.uc-baltic.de/veranstaltungen/kalender/ereignis/436
 -clubabend
DTSTART:20230728T180000Z
DTEND:20230728T210000Z
LOCATION:Clubheim UC Baltic ()
SUMMARY:Clubabend
URL:https://www.uc-baltic.de/veranstaltungen/kalender/ereignis/436-clubaben
 d
END:VEVENT
END:VCALENDAR
