BEGIN:VCALENDAR
VERSION:2.0
PRODID:-//https://www.uc-baltic.de///NONSGML kigkonsult.se iCalcreator 2.10.15//
METHOD:PUBLISH
BEGIN:VEVENT
UID:20260420T035608CEST-6973SLrMHz@https://www.uc-baltic.de/
DTSTAMP:20260420T015608Z
DESCRIPTION: https://www.uc-baltic.de/veranstaltungen/kalender/ereignis/130
 5-clubabend
DTSTART:20250725T170000Z
DTEND:20250725T215900Z
LOCATION:Unterwasserclub Baltic e.V.  (Fahrensodde 20\, 24944 Flensburg)
SUMMARY:Clubabend
URL:https://www.uc-baltic.de/veranstaltungen/kalender/ereignis/1305-clubabe
 nd
END:VEVENT
BEGIN:VEVENT
UID:20260420T035608CEST-69774H6UCv@https://www.uc-baltic.de/
DTSTAMP:20260420T015608Z
DESCRIPTION: https://www.uc-baltic.de/veranstaltungen/kalender/ereignis/145
 7-flossenschwimmen-di-19-00-20-00-uhr
DTSTART:20250722T170000Z
DTEND:20250722T180000Z
LOCATION:Campusbad (Thomas-Fincke-Straße 19\, 24943 Flensburg)
SUMMARY:Flossenschwimmen\, Di 19:00 -20:00 Uhr
URL:https://www.uc-baltic.de/veranstaltungen/kalender/ereignis/1457-flossen
 schwimmen-di-19-00-20-00-uhr
END:VEVENT
BEGIN:VEVENT
UID:20260420T035608CEST-6980r5xrRL@https://www.uc-baltic.de/
DTSTAMP:20260420T015608Z
DESCRIPTION: https://www.uc-baltic.de/veranstaltungen/kalender/ereignis/149
 5-flossenschwimmen-mo-19-00-20-00-uhr
DTSTART:20250721T170000Z
DTEND:20250721T180000Z
LOCATION:Campusbad (Thomas-Fincke-Straße 19\, 24943 Flensburg)
SUMMARY:Flossenschwimmen\, Mo 19:00 - 20:00 Uhr
URL:https://www.uc-baltic.de/veranstaltungen/kalender/ereignis/1495-flossen
 schwimmen-mo-19-00-20-00-uhr
END:VEVENT
BEGIN:VEVENT
UID:20260420T035608CEST-6982B16hft@https://www.uc-baltic.de/
DTSTAMP:20260420T015608Z
DESCRIPTION: https://www.uc-baltic.de/veranstaltungen/kalender/ereignis/150
 7-flossenschwimmen-mo-20-00-21-00
DTSTART:20250721T180000Z
DTEND:20250721T190000Z
LOCATION:Campusbad (Thomas-Fincke-Straße 19\, 24943 Flensburg)
SUMMARY:Flossenschwimmen\, Mo 20:00 - 21:00
URL:https://www.uc-baltic.de/veranstaltungen/kalender/ereignis/1507-flossen
 schwimmen-mo-20-00-21-00
END:VEVENT
BEGIN:VEVENT
UID:20260420T035608CEST-6985WZl16u@https://www.uc-baltic.de/
DTSTAMP:20260420T015608Z
DESCRIPTION: https://www.uc-baltic.de/veranstaltungen/kalender/ereignis/151
 9-uw-rugby-mo-20-00-21-00-uhr
DTSTART:20250721T180000Z
DTEND:20250721T190000Z
LOCATION:Campusbad (Thomas-Fincke-Straße 19\, 24943 Flensburg)
SUMMARY:UW-Rugby\, Mo 20:00 - 21:00 Uhr
URL:https://www.uc-baltic.de/veranstaltungen/kalender/ereignis/1519-uw-rugb
 y-mo-20-00-21-00-uhr
END:VEVENT
BEGIN:VEVENT
UID:20260420T035608CEST-6987cf44gz@https://www.uc-baltic.de/
DTSTAMP:20260420T015608Z
DESCRIPTION: https://www.uc-baltic.de/veranstaltungen/kalender/ereignis/159
 1-clubraum-privat
DTSTART:20250723T053000Z
DTEND:20250723T143000Z
LOCATION:Unterwasserclub Baltic e.V.  (Fahrensodde 20\, 24944 Flensburg)
SUMMARY:Clubraum Privat 
URL:https://www.uc-baltic.de/veranstaltungen/kalender/ereignis/1591-clubrau
 m-privat
END:VEVENT
END:VCALENDAR
