BEGIN:VCALENDAR
VERSION:2.0
PRODID:-//https://www.uc-baltic.de///NONSGML kigkonsult.se iCalcreator 2.10.15//
METHOD:PUBLISH
BEGIN:VEVENT
UID:20260423T015711CEST-6109EkOVXv@https://www.uc-baltic.de/
DTSTAMP:20260422T235711Z
DESCRIPTION: https://www.uc-baltic.de/veranstaltungen/kalender/ereignis/104
 9-flossenschwimmen-mo-19-20-uhr
DTSTART:20240715T170000Z
DTEND:20240715T180000Z
LOCATION:Campusbad (Thomas-Fincke-Straße 19\, 24943 Flensburg)
SUMMARY:Flossenschwimmen\, Mo 19  - 20 Uhr
URL:https://www.uc-baltic.de/veranstaltungen/kalender/ereignis/1049-flossen
 schwimmen-mo-19-20-uhr
END:VEVENT
BEGIN:VEVENT
UID:20260423T015711CEST-6112OMfOzN@https://www.uc-baltic.de/
DTSTAMP:20260422T235711Z
DESCRIPTION: https://www.uc-baltic.de/veranstaltungen/kalender/ereignis/106
 1-flossenschwimmen-mo-20-21-uhr
DTSTART:20240715T180000Z
DTEND:20240715T190000Z
LOCATION:Campusbad (Thomas-Fincke-Straße 19\, 24943 Flensburg)
SUMMARY:Flossenschwimmen\, Mo 20 - 21 Uhr
URL:https://www.uc-baltic.de/veranstaltungen/kalender/ereignis/1061-flossen
 schwimmen-mo-20-21-uhr
END:VEVENT
BEGIN:VEVENT
UID:20260423T015711CEST-6114ipiURL@https://www.uc-baltic.de/
DTSTAMP:20260422T235711Z
DESCRIPTION: https://www.uc-baltic.de/veranstaltungen/kalender/ereignis/107
 3-uw-rugby-mo-20-21-uhr
DTSTART:20240715T180000Z
DTEND:20240715T190000Z
LOCATION:Campusbad (Thomas-Fincke-Straße 19\, 24943 Flensburg)
SUMMARY:UW-Rugby\, Mo 20 - 21 Uhr
URL:https://www.uc-baltic.de/veranstaltungen/kalender/ereignis/1073-uw-rugb
 y-mo-20-21-uhr
END:VEVENT
BEGIN:VEVENT
UID:20260423T015711CEST-61169xpHA9@https://www.uc-baltic.de/
DTSTAMP:20260422T235711Z
DESCRIPTION: https://www.uc-baltic.de/veranstaltungen/kalender/ereignis/109
 8-flossenschwimmen-di-19-20-uhr
DTSTART:20240716T170000Z
DTEND:20240716T180000Z
LOCATION:Campusbad (Thomas-Fincke-Straße 19\, 24943 Flensburg)
SUMMARY:Flossenschwimmen\, Di 19 - 20 Uhr
URL:https://www.uc-baltic.de/veranstaltungen/kalender/ereignis/1098-flossen
 schwimmen-di-19-20-uhr
END:VEVENT
END:VCALENDAR
