BEGIN:VCALENDAR
VERSION:2.0
PRODID:-//https://www.uc-baltic.de///NONSGML kigkonsult.se iCalcreator 2.10.15//
METHOD:PUBLISH
BEGIN:VEVENT
UID:20260420T035607CEST-1768mcZSnu@https://www.uc-baltic.de/
DTSTAMP:20260420T015607Z
DESCRIPTION: https://www.uc-baltic.de/veranstaltungen/kalender/ereignis/145
 6-flossenschwimmen-di-19-00-20-00-uhr
DTSTART:20250715T170000Z
DTEND:20250715T180000Z
LOCATION:Campusbad (Thomas-Fincke-Straße 19\, 24943 Flensburg)
SUMMARY:Flossenschwimmen\, Di 19:00 -20:00 Uhr
URL:https://www.uc-baltic.de/veranstaltungen/kalender/ereignis/1456-flossen
 schwimmen-di-19-00-20-00-uhr
END:VEVENT
BEGIN:VEVENT
UID:20260420T035607CEST-17718kxNcl@https://www.uc-baltic.de/
DTSTAMP:20260420T015607Z
DESCRIPTION: https://www.uc-baltic.de/veranstaltungen/kalender/ereignis/146
 9-flossenschwimmen-do-16-00-17-00-uhr
DTSTART:20250717T140000Z
DTEND:20250717T150000Z
LOCATION:Campusbad (Thomas-Fincke-Straße 19\, 24943 Flensburg)
SUMMARY:Flossenschwimmen\, Do 16:00 - 17:00 Uhr
URL:https://www.uc-baltic.de/veranstaltungen/kalender/ereignis/1469-flossen
 schwimmen-do-16-00-17-00-uhr
END:VEVENT
BEGIN:VEVENT
UID:20260420T035607CEST-1774i72XXt@https://www.uc-baltic.de/
DTSTAMP:20260420T015607Z
DESCRIPTION: https://www.uc-baltic.de/veranstaltungen/kalender/ereignis/148
 2-flossenschwimmen-fr-20-00-21-00-uhr
DTSTART:20250718T180000Z
DTEND:20250718T190000Z
LOCATION:Campusbad (Thomas-Fincke-Straße 19\, 24943 Flensburg)
SUMMARY:Flossenschwimmen\, Fr 20:00 - 21:00 Uhr
URL:https://www.uc-baltic.de/veranstaltungen/kalender/ereignis/1482-flossen
 schwimmen-fr-20-00-21-00-uhr
END:VEVENT
BEGIN:VEVENT
UID:20260420T035607CEST-1776aHBmW1@https://www.uc-baltic.de/
DTSTAMP:20260420T015607Z
DESCRIPTION: https://www.uc-baltic.de/veranstaltungen/kalender/ereignis/149
 4-flossenschwimmen-mo-19-00-20-00-uhr
DTSTART:20250714T170000Z
DTEND:20250714T180000Z
LOCATION:Campusbad (Thomas-Fincke-Straße 19\, 24943 Flensburg)
SUMMARY:Flossenschwimmen\, Mo 19:00 - 20:00 Uhr
URL:https://www.uc-baltic.de/veranstaltungen/kalender/ereignis/1494-flossen
 schwimmen-mo-19-00-20-00-uhr
END:VEVENT
BEGIN:VEVENT
UID:20260420T035607CEST-1780fvNfgx@https://www.uc-baltic.de/
DTSTAMP:20260420T015607Z
DESCRIPTION: https://www.uc-baltic.de/veranstaltungen/kalender/ereignis/150
 6-flossenschwimmen-mo-20-00-21-00
DTSTART:20250714T180000Z
DTEND:20250714T190000Z
LOCATION:Campusbad (Thomas-Fincke-Straße 19\, 24943 Flensburg)
SUMMARY:Flossenschwimmen\, Mo 20:00 - 21:00
URL:https://www.uc-baltic.de/veranstaltungen/kalender/ereignis/1506-flossen
 schwimmen-mo-20-00-21-00
END:VEVENT
BEGIN:VEVENT
UID:20260420T035607CEST-1782b36dWa@https://www.uc-baltic.de/
DTSTAMP:20260420T015607Z
DESCRIPTION: https://www.uc-baltic.de/veranstaltungen/kalender/ereignis/151
 8-uw-rugby-mo-20-00-21-00-uhr
DTSTART:20250714T180000Z
DTEND:20250714T190000Z
LOCATION:Campusbad (Thomas-Fincke-Straße 19\, 24943 Flensburg)
SUMMARY:UW-Rugby\, Mo 20:00 - 21:00 Uhr
URL:https://www.uc-baltic.de/veranstaltungen/kalender/ereignis/1518-uw-rugb
 y-mo-20-00-21-00-uhr
END:VEVENT
END:VCALENDAR
