BEGIN:VCALENDAR
VERSION:2.0
PRODID:-//https://www.uc-baltic.de///NONSGML kigkonsult.se iCalcreator 2.10.15//
METHOD:PUBLISH
BEGIN:VEVENT
UID:20260420T053644CEST-01118fnvU7@https://www.uc-baltic.de/
DTSTAMP:20260420T033644Z
DESCRIPTION: https://www.uc-baltic.de/veranstaltungen/kalender/ereignis/130
 4-clubabend
DTSTART:20250711T170000Z
DTEND:20250711T215900Z
LOCATION:Unterwasserclub Baltic e.V.  (Fahrensodde 20\, 24944 Flensburg)
SUMMARY:Clubabend
URL:https://www.uc-baltic.de/veranstaltungen/kalender/ereignis/1304-clubabe
 nd
END:VEVENT
BEGIN:VEVENT
UID:20260420T053644CEST-0114UVCPMa@https://www.uc-baltic.de/
DTSTAMP:20260420T033644Z
DESCRIPTION: https://www.uc-baltic.de/veranstaltungen/kalender/ereignis/145
 5-flossenschwimmen-di-19-00-20-00-uhr
DTSTART:20250708T170000Z
DTEND:20250708T180000Z
LOCATION:Campusbad (Thomas-Fincke-Straße 19\, 24943 Flensburg)
SUMMARY:Flossenschwimmen\, Di 19:00 -20:00 Uhr
URL:https://www.uc-baltic.de/veranstaltungen/kalender/ereignis/1455-flossen
 schwimmen-di-19-00-20-00-uhr
END:VEVENT
BEGIN:VEVENT
UID:20260420T053644CEST-0116G7hld5@https://www.uc-baltic.de/
DTSTAMP:20260420T033644Z
DESCRIPTION: https://www.uc-baltic.de/veranstaltungen/kalender/ereignis/146
 8-flossenschwimmen-do-16-00-17-00-uhr
DTSTART:20250710T140000Z
DTEND:20250710T150000Z
LOCATION:Campusbad (Thomas-Fincke-Straße 19\, 24943 Flensburg)
SUMMARY:Flossenschwimmen\, Do 16:00 - 17:00 Uhr
URL:https://www.uc-baltic.de/veranstaltungen/kalender/ereignis/1468-flossen
 schwimmen-do-16-00-17-00-uhr
END:VEVENT
BEGIN:VEVENT
UID:20260420T053644CEST-0119Uv82hB@https://www.uc-baltic.de/
DTSTAMP:20260420T033644Z
DESCRIPTION: https://www.uc-baltic.de/veranstaltungen/kalender/ereignis/148
 1-flossenschwimmen-fr-20-00-21-00-uhr
DTSTART:20250711T180000Z
DTEND:20250711T190000Z
LOCATION:Campusbad (Thomas-Fincke-Straße 19\, 24943 Flensburg)
SUMMARY:Flossenschwimmen\, Fr 20:00 - 21:00 Uhr
URL:https://www.uc-baltic.de/veranstaltungen/kalender/ereignis/1481-flossen
 schwimmen-fr-20-00-21-00-uhr
END:VEVENT
BEGIN:VEVENT
UID:20260420T053644CEST-0121lLo2pO@https://www.uc-baltic.de/
DTSTAMP:20260420T033644Z
DESCRIPTION: https://www.uc-baltic.de/veranstaltungen/kalender/ereignis/149
 3-flossenschwimmen-mo-19-00-20-00-uhr
DTSTART:20250707T170000Z
DTEND:20250707T180000Z
LOCATION:Campusbad (Thomas-Fincke-Straße 19\, 24943 Flensburg)
SUMMARY:Flossenschwimmen\, Mo 19:00 - 20:00 Uhr
URL:https://www.uc-baltic.de/veranstaltungen/kalender/ereignis/1493-flossen
 schwimmen-mo-19-00-20-00-uhr
END:VEVENT
BEGIN:VEVENT
UID:20260420T053644CEST-0123Urz1xV@https://www.uc-baltic.de/
DTSTAMP:20260420T033644Z
DESCRIPTION: https://www.uc-baltic.de/veranstaltungen/kalender/ereignis/150
 5-flossenschwimmen-mo-20-00-21-00
DTSTART:20250707T180000Z
DTEND:20250707T190000Z
LOCATION:Campusbad (Thomas-Fincke-Straße 19\, 24943 Flensburg)
SUMMARY:Flossenschwimmen\, Mo 20:00 - 21:00
URL:https://www.uc-baltic.de/veranstaltungen/kalender/ereignis/1505-flossen
 schwimmen-mo-20-00-21-00
END:VEVENT
BEGIN:VEVENT
UID:20260420T053644CEST-0125g9V9Du@https://www.uc-baltic.de/
DTSTAMP:20260420T033644Z
DESCRIPTION: https://www.uc-baltic.de/veranstaltungen/kalender/ereignis/151
 7-uw-rugby-mo-20-00-21-00-uhr
DTSTART:20250707T180000Z
DTEND:20250707T190000Z
LOCATION:Campusbad (Thomas-Fincke-Straße 19\, 24943 Flensburg)
SUMMARY:UW-Rugby\, Mo 20:00 - 21:00 Uhr
URL:https://www.uc-baltic.de/veranstaltungen/kalender/ereignis/1517-uw-rugb
 y-mo-20-00-21-00-uhr
END:VEVENT
END:VCALENDAR
