BEGIN:VCALENDAR
VERSION:2.0
PRODID:-//https://www.uc-baltic.de///NONSGML kigkonsult.se iCalcreator 2.10.15//
METHOD:PUBLISH
BEGIN:VEVENT
UID:20260423T035029CEST-9482dRX0bi@https://www.uc-baltic.de/
DTSTAMP:20260423T015029Z
DESCRIPTION: https://www.uc-baltic.de/veranstaltungen/kalender/ereignis/104
 7-flossenschwimmen-mo-19-20-uhr
DTSTART:20240701T170000Z
DTEND:20240701T180000Z
LOCATION:Campusbad (Thomas-Fincke-Straße 19\, 24943 Flensburg)
SUMMARY:Flossenschwimmen\, Mo 19  - 20 Uhr
URL:https://www.uc-baltic.de/veranstaltungen/kalender/ereignis/1047-flossen
 schwimmen-mo-19-20-uhr
END:VEVENT
BEGIN:VEVENT
UID:20260423T035029CEST-9486oBhlcB@https://www.uc-baltic.de/
DTSTAMP:20260423T015029Z
DESCRIPTION: https://www.uc-baltic.de/veranstaltungen/kalender/ereignis/105
 9-flossenschwimmen-mo-20-21-uhr
DTSTART:20240701T180000Z
DTEND:20240701T190000Z
LOCATION:Campusbad (Thomas-Fincke-Straße 19\, 24943 Flensburg)
SUMMARY:Flossenschwimmen\, Mo 20 - 21 Uhr
URL:https://www.uc-baltic.de/veranstaltungen/kalender/ereignis/1059-flossen
 schwimmen-mo-20-21-uhr
END:VEVENT
BEGIN:VEVENT
UID:20260423T035029CEST-9487ULcogU@https://www.uc-baltic.de/
DTSTAMP:20260423T015029Z
DESCRIPTION: https://www.uc-baltic.de/veranstaltungen/kalender/ereignis/107
 1-uw-rugby-mo-20-21-uhr
DTSTART:20240701T180000Z
DTEND:20240701T190000Z
LOCATION:Campusbad (Thomas-Fincke-Straße 19\, 24943 Flensburg)
SUMMARY:UW-Rugby\, Mo 20 - 21 Uhr
URL:https://www.uc-baltic.de/veranstaltungen/kalender/ereignis/1071-uw-rugb
 y-mo-20-21-uhr
END:VEVENT
BEGIN:VEVENT
UID:20260423T035029CEST-9490fwXtbb@https://www.uc-baltic.de/
DTSTAMP:20260423T015029Z
DESCRIPTION: https://www.uc-baltic.de/veranstaltungen/kalender/ereignis/108
 4-flossenschwimmen-do-16-17-uhr
DTSTART:20240704T140000Z
DTEND:20240704T150000Z
LOCATION:Campusbad (Thomas-Fincke-Straße 19\, 24943 Flensburg)
SUMMARY:Flossenschwimmen\, Do 16 - 17 Uhr
URL:https://www.uc-baltic.de/veranstaltungen/kalender/ereignis/1084-flossen
 schwimmen-do-16-17-uhr
END:VEVENT
BEGIN:VEVENT
UID:20260423T035029CEST-9492VMnnKW@https://www.uc-baltic.de/
DTSTAMP:20260423T015029Z
DESCRIPTION: https://www.uc-baltic.de/veranstaltungen/kalender/ereignis/109
 6-flossenschwimmen-di-19-20-uhr
DTSTART:20240702T170000Z
DTEND:20240702T180000Z
LOCATION:Campusbad (Thomas-Fincke-Straße 19\, 24943 Flensburg)
SUMMARY:Flossenschwimmen\, Di 19 - 20 Uhr
URL:https://www.uc-baltic.de/veranstaltungen/kalender/ereignis/1096-flossen
 schwimmen-di-19-20-uhr
END:VEVENT
BEGIN:VEVENT
UID:20260423T035029CEST-9495fUDjB4@https://www.uc-baltic.de/
DTSTAMP:20260423T015029Z
DESCRIPTION:Treffen: 19:45 UhrWenn Schnuppertauchen stattfindet\, nehmt bit
 te Rücksicht aufeinander.Tauchlehrer übernehmen dann keine Bahnenaufsicht!
 ! https://www.uc-baltic.de/veranstaltungen/kalender/ereignis/1120-flossens
 chwimmen-fr-20-21-uhr-bahn-5-50-m
DTSTART:20240705T180000Z
DTEND:20240705T190000Z
LOCATION:Campusbad (Thomas-Fincke-Straße 19\, 24943 Flensburg)
SUMMARY:Flossenschwimmen\, Fr. 20 - 21 Uhr\; Bahn 5 - 50 m
URL:https://www.uc-baltic.de/veranstaltungen/kalender/ereignis/1120-flossen
 schwimmen-fr-20-21-uhr-bahn-5-50-m
END:VEVENT
END:VCALENDAR
