BEGIN:VCALENDAR
VERSION:2.0
PRODID:-//https://www.uc-baltic.de///NONSGML kigkonsult.se iCalcreator 2.10.15//
METHOD:PUBLISH
BEGIN:VEVENT
UID:20260420T035557CEST-0174u12woK@https://www.uc-baltic.de/
DTSTAMP:20260420T015557Z
DESCRIPTION: https://www.uc-baltic.de/veranstaltungen/kalender/ereignis/145
 4-flossenschwimmen-di-19-00-20-00-uhr
DTSTART:20250701T170000Z
DTEND:20250701T180000Z
LOCATION:Campusbad (Thomas-Fincke-Straße 19\, 24943 Flensburg)
SUMMARY:Flossenschwimmen\, Di 19:00 -20:00 Uhr
URL:https://www.uc-baltic.de/veranstaltungen/kalender/ereignis/1454-flossen
 schwimmen-di-19-00-20-00-uhr
END:VEVENT
BEGIN:VEVENT
UID:20260420T035557CEST-0179uCPofO@https://www.uc-baltic.de/
DTSTAMP:20260420T015557Z
DESCRIPTION: https://www.uc-baltic.de/veranstaltungen/kalender/ereignis/146
 7-flossenschwimmen-do-16-00-17-00-uhr
DTSTART:20250703T140000Z
DTEND:20250703T150000Z
LOCATION:Campusbad (Thomas-Fincke-Straße 19\, 24943 Flensburg)
SUMMARY:Flossenschwimmen\, Do 16:00 - 17:00 Uhr
URL:https://www.uc-baltic.de/veranstaltungen/kalender/ereignis/1467-flossen
 schwimmen-do-16-00-17-00-uhr
END:VEVENT
BEGIN:VEVENT
UID:20260420T035557CEST-0181AdDkru@https://www.uc-baltic.de/
DTSTAMP:20260420T015557Z
DESCRIPTION: https://www.uc-baltic.de/veranstaltungen/kalender/ereignis/148
 0-flossenschwimmen-fr-20-00-21-00-uhr
DTSTART:20250704T180000Z
DTEND:20250704T190000Z
LOCATION:Campusbad (Thomas-Fincke-Straße 19\, 24943 Flensburg)
SUMMARY:Flossenschwimmen\, Fr 20:00 - 21:00 Uhr
URL:https://www.uc-baltic.de/veranstaltungen/kalender/ereignis/1480-flossen
 schwimmen-fr-20-00-21-00-uhr
END:VEVENT
BEGIN:VEVENT
UID:20260420T035557CEST-0183amd3Su@https://www.uc-baltic.de/
DTSTAMP:20260420T015557Z
DESCRIPTION: https://www.uc-baltic.de/veranstaltungen/kalender/ereignis/149
 2-flossenschwimmen-mo-19-00-20-00-uhr
DTSTART:20250630T170000Z
DTEND:20250630T180000Z
LOCATION:Campusbad (Thomas-Fincke-Straße 19\, 24943 Flensburg)
SUMMARY:Flossenschwimmen\, Mo 19:00 - 20:00 Uhr
URL:https://www.uc-baltic.de/veranstaltungen/kalender/ereignis/1492-flossen
 schwimmen-mo-19-00-20-00-uhr
END:VEVENT
BEGIN:VEVENT
UID:20260420T035557CEST-0186BFdPxP@https://www.uc-baltic.de/
DTSTAMP:20260420T015557Z
DESCRIPTION: https://www.uc-baltic.de/veranstaltungen/kalender/ereignis/150
 4-flossenschwimmen-mo-20-00-21-00
DTSTART:20250630T180000Z
DTEND:20250630T190000Z
LOCATION:Campusbad (Thomas-Fincke-Straße 19\, 24943 Flensburg)
SUMMARY:Flossenschwimmen\, Mo 20:00 - 21:00
URL:https://www.uc-baltic.de/veranstaltungen/kalender/ereignis/1504-flossen
 schwimmen-mo-20-00-21-00
END:VEVENT
BEGIN:VEVENT
UID:20260420T035557CEST-0188M4z2jb@https://www.uc-baltic.de/
DTSTAMP:20260420T015557Z
DESCRIPTION: https://www.uc-baltic.de/veranstaltungen/kalender/ereignis/151
 6-uw-rugby-mo-20-00-21-00-uhr
DTSTART:20250630T180000Z
DTEND:20250630T190000Z
LOCATION:Campusbad (Thomas-Fincke-Straße 19\, 24943 Flensburg)
SUMMARY:UW-Rugby\, Mo 20:00 - 21:00 Uhr
URL:https://www.uc-baltic.de/veranstaltungen/kalender/ereignis/1516-uw-rugb
 y-mo-20-00-21-00-uhr
END:VEVENT
END:VCALENDAR
