BEGIN:VCALENDAR
VERSION:2.0
PRODID:-//https://www.uc-baltic.de///NONSGML kigkonsult.se iCalcreator 2.10.15//
METHOD:PUBLISH
BEGIN:VEVENT
UID:20260419T175922CEST-5668daU1WS@https://www.uc-baltic.de/
DTSTAMP:20260419T155922Z
DESCRIPTION: https://www.uc-baltic.de/veranstaltungen/kalender/ereignis/185
 8-flossenschwimmen-mo-19-00-20-00-unr
DTSTART:20260629T170000Z
DTEND:20260629T180000Z
LOCATION:Campusbad (Thomas-Fincke-Straße 19\, 24943 Flensburg)
SUMMARY:Flossenschwimmen\, Mo 19:00 - 20:00 Unr
URL:https://www.uc-baltic.de/veranstaltungen/kalender/ereignis/1858-flossen
 schwimmen-mo-19-00-20-00-unr
END:VEVENT
BEGIN:VEVENT
UID:20260419T175922CEST-5671ljsurk@https://www.uc-baltic.de/
DTSTAMP:20260419T155922Z
DESCRIPTION: https://www.uc-baltic.de/veranstaltungen/kalender/ereignis/186
 9-flossenschwimmen-mo-20-00-21-00-uhr
DTSTART:20260629T180000Z
DTEND:20260629T190000Z
LOCATION:Campusbad (Thomas-Fincke-Straße 19\, 24943 Flensburg)
SUMMARY:Flossenschwimmen\, Mo 20:00 - 21:00 Uhr
URL:https://www.uc-baltic.de/veranstaltungen/kalender/ereignis/1869-flossen
 schwimmen-mo-20-00-21-00-uhr
END:VEVENT
BEGIN:VEVENT
UID:20260419T175922CEST-5672A65J9Z@https://www.uc-baltic.de/
DTSTAMP:20260419T155922Z
DESCRIPTION: https://www.uc-baltic.de/veranstaltungen/kalender/ereignis/188
 0-uw-rugby-mo-20-00-21-00-uhr
DTSTART:20260629T180000Z
DTEND:20260629T190000Z
LOCATION:Campusbad (Thomas-Fincke-Straße 19\, 24943 Flensburg)
SUMMARY:UW-Rugby\, Mo 20:00 - 21:00 Uhr
URL:https://www.uc-baltic.de/veranstaltungen/kalender/ereignis/1880-uw-rugb
 y-mo-20-00-21-00-uhr
END:VEVENT
BEGIN:VEVENT
UID:20260419T175922CEST-5674v4A3Z7@https://www.uc-baltic.de/
DTSTAMP:20260419T155922Z
DESCRIPTION: https://www.uc-baltic.de/veranstaltungen/kalender/ereignis/189
 2-flossenschwimmen-di-19-00-20-00-uhr
DTSTART:20260630T170000Z
DTEND:20260630T180000Z
LOCATION:Campusbad (Thomas-Fincke-Straße 19\, 24943 Flensburg)
SUMMARY:Flossenschwimmen\, Di 19:00 - 20:00 Uhr
URL:https://www.uc-baltic.de/veranstaltungen/kalender/ereignis/1892-flossen
 schwimmen-di-19-00-20-00-uhr
END:VEVENT
BEGIN:VEVENT
UID:20260419T175922CEST-5675duNSH4@https://www.uc-baltic.de/
DTSTAMP:20260419T155922Z
DESCRIPTION: https://www.uc-baltic.de/veranstaltungen/kalender/ereignis/190
 3-flossenschwimmen-do-16-00-uhr
DTSTART:20260702T140000Z
DTEND:20260702T150000Z
LOCATION:Campusbad (Thomas-Fincke-Straße 19\, 24943 Flensburg)
SUMMARY:Flossenschwimmen\, Do 16:00 Uhr
URL:https://www.uc-baltic.de/veranstaltungen/kalender/ereignis/1903-flossen
 schwimmen-do-16-00-uhr
END:VEVENT
BEGIN:VEVENT
UID:20260419T175922CEST-5677p3RJzd@https://www.uc-baltic.de/
DTSTAMP:20260419T155922Z
DESCRIPTION: https://www.uc-baltic.de/veranstaltungen/kalender/ereignis/191
 3-flossenschwimmen-fr-20-00-21-00-uhr
DTSTART:20260703T180000Z
DTEND:20260703T190000Z
LOCATION:Campusbad (Thomas-Fincke-Straße 19\, 24943 Flensburg)
SUMMARY:Flossenschwimmen\, Fr 20:00 - 21:00 Uhr
URL:https://www.uc-baltic.de/veranstaltungen/kalender/ereignis/1913-flossen
 schwimmen-fr-20-00-21-00-uhr
END:VEVENT
END:VCALENDAR
