BEGIN:VCALENDAR
VERSION:2.0
PRODID:-//https://www.uc-baltic.de///NONSGML kigkonsult.se iCalcreator 2.10.15//
METHOD:PUBLISH
BEGIN:VEVENT
UID:20260423T034501CEST-3925xXUTIE@https://www.uc-baltic.de/
DTSTAMP:20260423T014501Z
DESCRIPTION: https://www.uc-baltic.de/veranstaltungen/kalender/ereignis/101
 0-clubabend
DTSTART:20240628T170000Z
DTEND:20240628T215900Z
LOCATION:Clubheim UC Baltic ()
SUMMARY:Clubabend
URL:https://www.uc-baltic.de/veranstaltungen/kalender/ereignis/1010-clubabe
 nd
END:VEVENT
BEGIN:VEVENT
UID:20260423T034501CEST-3955D9vlmb@https://www.uc-baltic.de/
DTSTAMP:20260423T014501Z
DESCRIPTION: https://www.uc-baltic.de/veranstaltungen/kalender/ereignis/104
 6-flossenschwimmen-mo-19-20-uhr
DTSTART:20240624T170000Z
DTEND:20240624T180000Z
LOCATION:Campusbad (Thomas-Fincke-Straße 19\, 24943 Flensburg)
SUMMARY:Flossenschwimmen\, Mo 19  - 20 Uhr
URL:https://www.uc-baltic.de/veranstaltungen/kalender/ereignis/1046-flossen
 schwimmen-mo-19-20-uhr
END:VEVENT
BEGIN:VEVENT
UID:20260423T034501CEST-3957ozRuuV@https://www.uc-baltic.de/
DTSTAMP:20260423T014501Z
DESCRIPTION: https://www.uc-baltic.de/veranstaltungen/kalender/ereignis/105
 8-flossenschwimmen-mo-20-21-uhr
DTSTART:20240624T180000Z
DTEND:20240624T190000Z
LOCATION:Campusbad (Thomas-Fincke-Straße 19\, 24943 Flensburg)
SUMMARY:Flossenschwimmen\, Mo 20 - 21 Uhr
URL:https://www.uc-baltic.de/veranstaltungen/kalender/ereignis/1058-flossen
 schwimmen-mo-20-21-uhr
END:VEVENT
BEGIN:VEVENT
UID:20260423T034501CEST-3959g6iD32@https://www.uc-baltic.de/
DTSTAMP:20260423T014501Z
DESCRIPTION: https://www.uc-baltic.de/veranstaltungen/kalender/ereignis/107
 0-uw-rugby-mo-20-21-uhr
DTSTART:20240624T180000Z
DTEND:20240624T190000Z
LOCATION:Campusbad (Thomas-Fincke-Straße 19\, 24943 Flensburg)
SUMMARY:UW-Rugby\, Mo 20 - 21 Uhr
URL:https://www.uc-baltic.de/veranstaltungen/kalender/ereignis/1070-uw-rugb
 y-mo-20-21-uhr
END:VEVENT
BEGIN:VEVENT
UID:20260423T034501CEST-3961GWjGWm@https://www.uc-baltic.de/
DTSTAMP:20260423T014501Z
DESCRIPTION: https://www.uc-baltic.de/veranstaltungen/kalender/ereignis/108
 3-flossenschwimmen-do-16-17-uhr
DTSTART:20240627T140000Z
DTEND:20240627T150000Z
LOCATION:Campusbad (Thomas-Fincke-Straße 19\, 24943 Flensburg)
SUMMARY:Flossenschwimmen\, Do 16 - 17 Uhr
URL:https://www.uc-baltic.de/veranstaltungen/kalender/ereignis/1083-flossen
 schwimmen-do-16-17-uhr
END:VEVENT
BEGIN:VEVENT
UID:20260423T034501CEST-3963PaV6gu@https://www.uc-baltic.de/
DTSTAMP:20260423T014501Z
DESCRIPTION: https://www.uc-baltic.de/veranstaltungen/kalender/ereignis/109
 5-flossenschwimmen-di-19-20-uhr
DTSTART:20240625T170000Z
DTEND:20240625T180000Z
LOCATION:Campusbad (Thomas-Fincke-Straße 19\, 24943 Flensburg)
SUMMARY:Flossenschwimmen\, Di 19 - 20 Uhr
URL:https://www.uc-baltic.de/veranstaltungen/kalender/ereignis/1095-flossen
 schwimmen-di-19-20-uhr
END:VEVENT
BEGIN:VEVENT
UID:20260423T034501CEST-3964D9IKuu@https://www.uc-baltic.de/
DTSTAMP:20260423T014501Z
DESCRIPTION:Treffen: 19:45 UhrWenn Schnuppertauchen stattfindet\, nehmt bit
 te Rücksicht aufeinander.Tauchlehrer übernehmen dann keine Bahnenaufsicht!
 ! https://www.uc-baltic.de/veranstaltungen/kalender/ereignis/1119-flossens
 chwimmen-fr-20-21-uhr-bahn-5-50-m
DTSTART:20240628T180000Z
DTEND:20240628T190000Z
LOCATION:Campusbad (Thomas-Fincke-Straße 19\, 24943 Flensburg)
SUMMARY:Flossenschwimmen\, Fr. 20 - 21 Uhr\; Bahn 5 - 50 m
URL:https://www.uc-baltic.de/veranstaltungen/kalender/ereignis/1119-flossen
 schwimmen-fr-20-21-uhr-bahn-5-50-m
END:VEVENT
END:VCALENDAR
