BEGIN:VCALENDAR
VERSION:2.0
PRODID:-//https://www.uc-baltic.de///NONSGML kigkonsult.se iCalcreator 2.10.15//
METHOD:PUBLISH
BEGIN:VEVENT
UID:20260420T053643CEST-5477gTuwmM@https://www.uc-baltic.de/
DTSTAMP:20260420T033643Z
DESCRIPTION: https://www.uc-baltic.de/veranstaltungen/kalender/ereignis/130
 3-clubabend
DTSTART:20250627T170000Z
DTEND:20250627T215900Z
LOCATION:Unterwasserclub Baltic e.V.  (Fahrensodde 20\, 24944 Flensburg)
SUMMARY:Clubabend
URL:https://www.uc-baltic.de/veranstaltungen/kalender/ereignis/1303-clubabe
 nd
END:VEVENT
BEGIN:VEVENT
UID:20260420T053643CEST-5480mnhIg4@https://www.uc-baltic.de/
DTSTAMP:20260420T033643Z
DESCRIPTION: https://www.uc-baltic.de/veranstaltungen/kalender/ereignis/145
 3-flossenschwimmen-di-19-00-20-00-uhr
DTSTART:20250624T170000Z
DTEND:20250624T180000Z
LOCATION:Campusbad (Thomas-Fincke-Straße 19\, 24943 Flensburg)
SUMMARY:Flossenschwimmen\, Di 19:00 -20:00 Uhr
URL:https://www.uc-baltic.de/veranstaltungen/kalender/ereignis/1453-flossen
 schwimmen-di-19-00-20-00-uhr
END:VEVENT
BEGIN:VEVENT
UID:20260420T053643CEST-5482cuvjbW@https://www.uc-baltic.de/
DTSTAMP:20260420T033643Z
DESCRIPTION: https://www.uc-baltic.de/veranstaltungen/kalender/ereignis/146
 6-flossenschwimmen-do-16-00-17-00-uhr
DTSTART:20250626T140000Z
DTEND:20250626T150000Z
LOCATION:Campusbad (Thomas-Fincke-Straße 19\, 24943 Flensburg)
SUMMARY:Flossenschwimmen\, Do 16:00 - 17:00 Uhr
URL:https://www.uc-baltic.de/veranstaltungen/kalender/ereignis/1466-flossen
 schwimmen-do-16-00-17-00-uhr
END:VEVENT
BEGIN:VEVENT
UID:20260420T053643CEST-5485SiUWUC@https://www.uc-baltic.de/
DTSTAMP:20260420T033643Z
DESCRIPTION: https://www.uc-baltic.de/veranstaltungen/kalender/ereignis/147
 9-flossenschwimmen-fr-20-00-21-00-uhr
DTSTART:20250627T180000Z
DTEND:20250627T190000Z
LOCATION:Campusbad (Thomas-Fincke-Straße 19\, 24943 Flensburg)
SUMMARY:Flossenschwimmen\, Fr 20:00 - 21:00 Uhr
URL:https://www.uc-baltic.de/veranstaltungen/kalender/ereignis/1479-flossen
 schwimmen-fr-20-00-21-00-uhr
END:VEVENT
BEGIN:VEVENT
UID:20260420T053643CEST-54878dvWKa@https://www.uc-baltic.de/
DTSTAMP:20260420T033643Z
DESCRIPTION: https://www.uc-baltic.de/veranstaltungen/kalender/ereignis/149
 1-flossenschwimmen-mo-19-00-20-00-uhr
DTSTART:20250623T170000Z
DTEND:20250623T180000Z
LOCATION:Campusbad (Thomas-Fincke-Straße 19\, 24943 Flensburg)
SUMMARY:Flossenschwimmen\, Mo 19:00 - 20:00 Uhr
URL:https://www.uc-baltic.de/veranstaltungen/kalender/ereignis/1491-flossen
 schwimmen-mo-19-00-20-00-uhr
END:VEVENT
BEGIN:VEVENT
UID:20260420T053643CEST-5490gWvGwS@https://www.uc-baltic.de/
DTSTAMP:20260420T033643Z
DESCRIPTION: https://www.uc-baltic.de/veranstaltungen/kalender/ereignis/150
 3-flossenschwimmen-mo-20-00-21-00
DTSTART:20250623T180000Z
DTEND:20250623T190000Z
LOCATION:Campusbad (Thomas-Fincke-Straße 19\, 24943 Flensburg)
SUMMARY:Flossenschwimmen\, Mo 20:00 - 21:00
URL:https://www.uc-baltic.de/veranstaltungen/kalender/ereignis/1503-flossen
 schwimmen-mo-20-00-21-00
END:VEVENT
BEGIN:VEVENT
UID:20260420T053643CEST-5492xM52bh@https://www.uc-baltic.de/
DTSTAMP:20260420T033643Z
DESCRIPTION: https://www.uc-baltic.de/veranstaltungen/kalender/ereignis/151
 5-uw-rugby-mo-20-00-21-00-uhr
DTSTART:20250623T180000Z
DTEND:20250623T190000Z
LOCATION:Campusbad (Thomas-Fincke-Straße 19\, 24943 Flensburg)
SUMMARY:UW-Rugby\, Mo 20:00 - 21:00 Uhr
URL:https://www.uc-baltic.de/veranstaltungen/kalender/ereignis/1515-uw-rugb
 y-mo-20-00-21-00-uhr
END:VEVENT
END:VCALENDAR
