BEGIN:VCALENDAR
VERSION:2.0
PRODID:-//https://www.uc-baltic.de///NONSGML kigkonsult.se iCalcreator 2.10.15//
METHOD:PUBLISH
BEGIN:VEVENT
UID:20260419T162723CEST-4059LgkixI@https://www.uc-baltic.de/
DTSTAMP:20260419T142723Z
DESCRIPTION: https://www.uc-baltic.de/veranstaltungen/kalender/ereignis/185
 7-flossenschwimmen-mo-19-00-20-00-unr
DTSTART:20260622T170000Z
DTEND:20260622T180000Z
LOCATION:Campusbad (Thomas-Fincke-Straße 19\, 24943 Flensburg)
SUMMARY:Flossenschwimmen\, Mo 19:00 - 20:00 Unr
URL:https://www.uc-baltic.de/veranstaltungen/kalender/ereignis/1857-flossen
 schwimmen-mo-19-00-20-00-unr
END:VEVENT
BEGIN:VEVENT
UID:20260419T162723CEST-4062eCcwvn@https://www.uc-baltic.de/
DTSTAMP:20260419T142723Z
DESCRIPTION: https://www.uc-baltic.de/veranstaltungen/kalender/ereignis/186
 8-flossenschwimmen-mo-20-00-21-00-uhr
DTSTART:20260622T180000Z
DTEND:20260622T190000Z
LOCATION:Campusbad (Thomas-Fincke-Straße 19\, 24943 Flensburg)
SUMMARY:Flossenschwimmen\, Mo 20:00 - 21:00 Uhr
URL:https://www.uc-baltic.de/veranstaltungen/kalender/ereignis/1868-flossen
 schwimmen-mo-20-00-21-00-uhr
END:VEVENT
BEGIN:VEVENT
UID:20260419T162723CEST-4065jUbBC4@https://www.uc-baltic.de/
DTSTAMP:20260419T142723Z
DESCRIPTION: https://www.uc-baltic.de/veranstaltungen/kalender/ereignis/187
 9-uw-rugby-mo-20-00-21-00-uhr
DTSTART:20260622T180000Z
DTEND:20260622T190000Z
LOCATION:Campusbad (Thomas-Fincke-Straße 19\, 24943 Flensburg)
SUMMARY:UW-Rugby\, Mo 20:00 - 21:00 Uhr
URL:https://www.uc-baltic.de/veranstaltungen/kalender/ereignis/1879-uw-rugb
 y-mo-20-00-21-00-uhr
END:VEVENT
BEGIN:VEVENT
UID:20260419T162723CEST-4067oPOOVz@https://www.uc-baltic.de/
DTSTAMP:20260419T142723Z
DESCRIPTION: https://www.uc-baltic.de/veranstaltungen/kalender/ereignis/189
 1-flossenschwimmen-di-19-00-20-00-uhr
DTSTART:20260623T170000Z
DTEND:20260623T180000Z
LOCATION:Campusbad (Thomas-Fincke-Straße 19\, 24943 Flensburg)
SUMMARY:Flossenschwimmen\, Di 19:00 - 20:00 Uhr
URL:https://www.uc-baltic.de/veranstaltungen/kalender/ereignis/1891-flossen
 schwimmen-di-19-00-20-00-uhr
END:VEVENT
BEGIN:VEVENT
UID:20260419T162723CEST-4069FDotoK@https://www.uc-baltic.de/
DTSTAMP:20260419T142723Z
DESCRIPTION: https://www.uc-baltic.de/veranstaltungen/kalender/ereignis/190
 2-flossenschwimmen-do-16-00-uhr
DTSTART:20260625T140000Z
DTEND:20260625T150000Z
LOCATION:Campusbad (Thomas-Fincke-Straße 19\, 24943 Flensburg)
SUMMARY:Flossenschwimmen\, Do 16:00 Uhr
URL:https://www.uc-baltic.de/veranstaltungen/kalender/ereignis/1902-flossen
 schwimmen-do-16-00-uhr
END:VEVENT
BEGIN:VEVENT
UID:20260419T162723CEST-4071XXo1M9@https://www.uc-baltic.de/
DTSTAMP:20260419T142723Z
DESCRIPTION: https://www.uc-baltic.de/veranstaltungen/kalender/ereignis/191
 2-flossenschwimmen-fr-20-00-21-00-uhr
DTSTART:20260626T180000Z
DTEND:20260626T190000Z
LOCATION:Campusbad (Thomas-Fincke-Straße 19\, 24943 Flensburg)
SUMMARY:Flossenschwimmen\, Fr 20:00 - 21:00 Uhr
URL:https://www.uc-baltic.de/veranstaltungen/kalender/ereignis/1912-flossen
 schwimmen-fr-20-00-21-00-uhr
END:VEVENT
END:VCALENDAR
