BEGIN:VCALENDAR
VERSION:2.0
PRODID:-//https://www.uc-baltic.de///NONSGML kigkonsult.se iCalcreator 2.10.15//
METHOD:PUBLISH
BEGIN:VEVENT
UID:20260423T033610CEST-5870ju5lmn@https://www.uc-baltic.de/
DTSTAMP:20260423T013610Z
DESCRIPTION: https://www.uc-baltic.de/veranstaltungen/kalender/ereignis/104
 5-flossenschwimmen-mo-19-20-uhr
DTSTART:20240617T170000Z
DTEND:20240617T180000Z
LOCATION:Campusbad (Thomas-Fincke-Straße 19\, 24943 Flensburg)
SUMMARY:Flossenschwimmen\, Mo 19  - 20 Uhr
URL:https://www.uc-baltic.de/veranstaltungen/kalender/ereignis/1045-flossen
 schwimmen-mo-19-20-uhr
END:VEVENT
BEGIN:VEVENT
UID:20260423T033610CEST-5873Pr7ISU@https://www.uc-baltic.de/
DTSTAMP:20260423T013610Z
DESCRIPTION: https://www.uc-baltic.de/veranstaltungen/kalender/ereignis/105
 7-flossenschwimmen-mo-20-21-uhr
DTSTART:20240617T180000Z
DTEND:20240617T190000Z
LOCATION:Campusbad (Thomas-Fincke-Straße 19\, 24943 Flensburg)
SUMMARY:Flossenschwimmen\, Mo 20 - 21 Uhr
URL:https://www.uc-baltic.de/veranstaltungen/kalender/ereignis/1057-flossen
 schwimmen-mo-20-21-uhr
END:VEVENT
BEGIN:VEVENT
UID:20260423T033610CEST-5878egIJrE@https://www.uc-baltic.de/
DTSTAMP:20260423T013610Z
DESCRIPTION: https://www.uc-baltic.de/veranstaltungen/kalender/ereignis/106
 9-uw-rugby-mo-20-21-uhr
DTSTART:20240617T180000Z
DTEND:20240617T190000Z
LOCATION:Campusbad (Thomas-Fincke-Straße 19\, 24943 Flensburg)
SUMMARY:UW-Rugby\, Mo 20 - 21 Uhr
URL:https://www.uc-baltic.de/veranstaltungen/kalender/ereignis/1069-uw-rugb
 y-mo-20-21-uhr
END:VEVENT
BEGIN:VEVENT
UID:20260423T033610CEST-5880uI0vV5@https://www.uc-baltic.de/
DTSTAMP:20260423T013610Z
DESCRIPTION: https://www.uc-baltic.de/veranstaltungen/kalender/ereignis/108
 2-flossenschwimmen-do-16-17-uhr
DTSTART:20240620T140000Z
DTEND:20240620T150000Z
LOCATION:Campusbad (Thomas-Fincke-Straße 19\, 24943 Flensburg)
SUMMARY:Flossenschwimmen\, Do 16 - 17 Uhr
URL:https://www.uc-baltic.de/veranstaltungen/kalender/ereignis/1082-flossen
 schwimmen-do-16-17-uhr
END:VEVENT
BEGIN:VEVENT
UID:20260423T033610CEST-5883MHPSnw@https://www.uc-baltic.de/
DTSTAMP:20260423T013610Z
DESCRIPTION: https://www.uc-baltic.de/veranstaltungen/kalender/ereignis/109
 4-flossenschwimmen-di-19-20-uhr
DTSTART:20240618T170000Z
DTEND:20240618T180000Z
LOCATION:Campusbad (Thomas-Fincke-Straße 19\, 24943 Flensburg)
SUMMARY:Flossenschwimmen\, Di 19 - 20 Uhr
URL:https://www.uc-baltic.de/veranstaltungen/kalender/ereignis/1094-flossen
 schwimmen-di-19-20-uhr
END:VEVENT
BEGIN:VEVENT
UID:20260423T033610CEST-5885HsXoPU@https://www.uc-baltic.de/
DTSTAMP:20260423T013610Z
DESCRIPTION:Treffen: 19:45 UhrWenn Schnuppertauchen stattfindet\, nehmt bit
 te Rücksicht aufeinander.Tauchlehrer übernehmen dann keine Bahnenaufsicht!
 ! https://www.uc-baltic.de/veranstaltungen/kalender/ereignis/1118-flossens
 chwimmen-fr-20-21-uhr-bahn-5-50-m
DTSTART:20240621T180000Z
DTEND:20240621T190000Z
LOCATION:Campusbad (Thomas-Fincke-Straße 19\, 24943 Flensburg)
SUMMARY:Flossenschwimmen\, Fr. 20 - 21 Uhr\; Bahn 5 - 50 m
URL:https://www.uc-baltic.de/veranstaltungen/kalender/ereignis/1118-flossen
 schwimmen-fr-20-21-uhr-bahn-5-50-m
END:VEVENT
END:VCALENDAR
