BEGIN:VCALENDAR
VERSION:2.0
PRODID:-//https://www.uc-baltic.de///NONSGML kigkonsult.se iCalcreator 2.10.15//
METHOD:PUBLISH
BEGIN:VEVENT
UID:20260420T053643CEST-7799pbuxNv@https://www.uc-baltic.de/
DTSTAMP:20260420T033643Z
DESCRIPTION: https://www.uc-baltic.de/veranstaltungen/kalender/ereignis/145
 2-flossenschwimmen-di-19-00-20-00-uhr
DTSTART:20250617T170000Z
DTEND:20250617T180000Z
LOCATION:Campusbad (Thomas-Fincke-Straße 19\, 24943 Flensburg)
SUMMARY:Flossenschwimmen\, Di 19:00 -20:00 Uhr
URL:https://www.uc-baltic.de/veranstaltungen/kalender/ereignis/1452-flossen
 schwimmen-di-19-00-20-00-uhr
END:VEVENT
BEGIN:VEVENT
UID:20260420T053643CEST-7802fkTTUC@https://www.uc-baltic.de/
DTSTAMP:20260420T033643Z
DESCRIPTION: https://www.uc-baltic.de/veranstaltungen/kalender/ereignis/146
 5-flossenschwimmen-do-16-00-17-00-uhr
DTSTART:20250619T140000Z
DTEND:20250619T150000Z
LOCATION:Campusbad (Thomas-Fincke-Straße 19\, 24943 Flensburg)
SUMMARY:Flossenschwimmen\, Do 16:00 - 17:00 Uhr
URL:https://www.uc-baltic.de/veranstaltungen/kalender/ereignis/1465-flossen
 schwimmen-do-16-00-17-00-uhr
END:VEVENT
BEGIN:VEVENT
UID:20260420T053643CEST-78043v42kk@https://www.uc-baltic.de/
DTSTAMP:20260420T033643Z
DESCRIPTION: https://www.uc-baltic.de/veranstaltungen/kalender/ereignis/147
 8-flossenschwimmen-fr-20-00-21-00-uhr
DTSTART:20250620T180000Z
DTEND:20250620T190000Z
LOCATION:Campusbad (Thomas-Fincke-Straße 19\, 24943 Flensburg)
SUMMARY:Flossenschwimmen\, Fr 20:00 - 21:00 Uhr
URL:https://www.uc-baltic.de/veranstaltungen/kalender/ereignis/1478-flossen
 schwimmen-fr-20-00-21-00-uhr
END:VEVENT
BEGIN:VEVENT
UID:20260420T053643CEST-78060uplfO@https://www.uc-baltic.de/
DTSTAMP:20260420T033643Z
DESCRIPTION: https://www.uc-baltic.de/veranstaltungen/kalender/ereignis/149
 0-flossenschwimmen-mo-19-00-20-00-uhr
DTSTART:20250616T170000Z
DTEND:20250616T180000Z
LOCATION:Campusbad (Thomas-Fincke-Straße 19\, 24943 Flensburg)
SUMMARY:Flossenschwimmen\, Mo 19:00 - 20:00 Uhr
URL:https://www.uc-baltic.de/veranstaltungen/kalender/ereignis/1490-flossen
 schwimmen-mo-19-00-20-00-uhr
END:VEVENT
BEGIN:VEVENT
UID:20260420T053643CEST-7809eOGMU5@https://www.uc-baltic.de/
DTSTAMP:20260420T033643Z
DESCRIPTION: https://www.uc-baltic.de/veranstaltungen/kalender/ereignis/150
 2-flossenschwimmen-mo-20-00-21-00
DTSTART:20250616T180000Z
DTEND:20250616T190000Z
LOCATION:Campusbad (Thomas-Fincke-Straße 19\, 24943 Flensburg)
SUMMARY:Flossenschwimmen\, Mo 20:00 - 21:00
URL:https://www.uc-baltic.de/veranstaltungen/kalender/ereignis/1502-flossen
 schwimmen-mo-20-00-21-00
END:VEVENT
BEGIN:VEVENT
UID:20260420T053643CEST-7811z2pTMp@https://www.uc-baltic.de/
DTSTAMP:20260420T033643Z
DESCRIPTION: https://www.uc-baltic.de/veranstaltungen/kalender/ereignis/151
 4-uw-rugby-mo-20-00-21-00-uhr
DTSTART:20250616T180000Z
DTEND:20250616T190000Z
LOCATION:Campusbad (Thomas-Fincke-Straße 19\, 24943 Flensburg)
SUMMARY:UW-Rugby\, Mo 20:00 - 21:00 Uhr
URL:https://www.uc-baltic.de/veranstaltungen/kalender/ereignis/1514-uw-rugb
 y-mo-20-00-21-00-uhr
END:VEVENT
END:VCALENDAR
