BEGIN:VCALENDAR
VERSION:2.0
PRODID:-//https://www.uc-baltic.de///NONSGML kigkonsult.se iCalcreator 2.10.15//
METHOD:PUBLISH
BEGIN:VEVENT
UID:20260419T162722CEST-9136v4X3b0@https://www.uc-baltic.de/
DTSTAMP:20260419T142722Z
DESCRIPTION: https://www.uc-baltic.de/veranstaltungen/kalender/ereignis/185
 6-flossenschwimmen-mo-19-00-20-00-unr
DTSTART:20260615T170000Z
DTEND:20260615T180000Z
LOCATION:Campusbad (Thomas-Fincke-Straße 19\, 24943 Flensburg)
SUMMARY:Flossenschwimmen\, Mo 19:00 - 20:00 Unr
URL:https://www.uc-baltic.de/veranstaltungen/kalender/ereignis/1856-flossen
 schwimmen-mo-19-00-20-00-unr
END:VEVENT
BEGIN:VEVENT
UID:20260419T162722CEST-9139emnLil@https://www.uc-baltic.de/
DTSTAMP:20260419T142722Z
DESCRIPTION: https://www.uc-baltic.de/veranstaltungen/kalender/ereignis/186
 7-flossenschwimmen-mo-20-00-21-00-uhr
DTSTART:20260615T180000Z
DTEND:20260615T190000Z
LOCATION:Campusbad (Thomas-Fincke-Straße 19\, 24943 Flensburg)
SUMMARY:Flossenschwimmen\, Mo 20:00 - 21:00 Uhr
URL:https://www.uc-baltic.de/veranstaltungen/kalender/ereignis/1867-flossen
 schwimmen-mo-20-00-21-00-uhr
END:VEVENT
BEGIN:VEVENT
UID:20260419T162722CEST-9141UZdXuW@https://www.uc-baltic.de/
DTSTAMP:20260419T142722Z
DESCRIPTION: https://www.uc-baltic.de/veranstaltungen/kalender/ereignis/187
 8-uw-rugby-mo-20-00-21-00-uhr
DTSTART:20260615T180000Z
DTEND:20260615T190000Z
LOCATION:Campusbad (Thomas-Fincke-Straße 19\, 24943 Flensburg)
SUMMARY:UW-Rugby\, Mo 20:00 - 21:00 Uhr
URL:https://www.uc-baltic.de/veranstaltungen/kalender/ereignis/1878-uw-rugb
 y-mo-20-00-21-00-uhr
END:VEVENT
BEGIN:VEVENT
UID:20260419T162722CEST-9144hd3vDG@https://www.uc-baltic.de/
DTSTAMP:20260419T142722Z
DESCRIPTION: https://www.uc-baltic.de/veranstaltungen/kalender/ereignis/189
 0-flossenschwimmen-di-19-00-20-00-uhr
DTSTART:20260616T170000Z
DTEND:20260616T180000Z
LOCATION:Campusbad (Thomas-Fincke-Straße 19\, 24943 Flensburg)
SUMMARY:Flossenschwimmen\, Di 19:00 - 20:00 Uhr
URL:https://www.uc-baltic.de/veranstaltungen/kalender/ereignis/1890-flossen
 schwimmen-di-19-00-20-00-uhr
END:VEVENT
BEGIN:VEVENT
UID:20260419T162722CEST-9146i02pkE@https://www.uc-baltic.de/
DTSTAMP:20260419T142722Z
DESCRIPTION: https://www.uc-baltic.de/veranstaltungen/kalender/ereignis/190
 1-flossenschwimmen-do-16-00-uhr
DTSTART:20260618T140000Z
DTEND:20260618T150000Z
LOCATION:Campusbad (Thomas-Fincke-Straße 19\, 24943 Flensburg)
SUMMARY:Flossenschwimmen\, Do 16:00 Uhr
URL:https://www.uc-baltic.de/veranstaltungen/kalender/ereignis/1901-flossen
 schwimmen-do-16-00-uhr
END:VEVENT
BEGIN:VEVENT
UID:20260419T162722CEST-9148vsgwSR@https://www.uc-baltic.de/
DTSTAMP:20260419T142722Z
DESCRIPTION: https://www.uc-baltic.de/veranstaltungen/kalender/ereignis/191
 1-flossenschwimmen-fr-20-00-21-00-uhr
DTSTART:20260619T180000Z
DTEND:20260619T190000Z
LOCATION:Campusbad (Thomas-Fincke-Straße 19\, 24943 Flensburg)
SUMMARY:Flossenschwimmen\, Fr 20:00 - 21:00 Uhr
URL:https://www.uc-baltic.de/veranstaltungen/kalender/ereignis/1911-flossen
 schwimmen-fr-20-00-21-00-uhr
END:VEVENT
END:VCALENDAR
