BEGIN:VCALENDAR
VERSION:2.0
PRODID:-//https://www.uc-baltic.de///NONSGML kigkonsult.se iCalcreator 2.10.15//
METHOD:PUBLISH
BEGIN:VEVENT
UID:20260424T004424CEST-4851fZ62bV@https://www.uc-baltic.de/
DTSTAMP:20260423T224424Z
DESCRIPTION: https://www.uc-baltic.de/veranstaltungen/kalender/ereignis/439
 -clubabend
DTSTART:20230616T180000Z
DTEND:20230616T210000Z
LOCATION:Clubheim UC Baltic ()
SUMMARY:Clubabend
URL:https://www.uc-baltic.de/veranstaltungen/kalender/ereignis/439-clubaben
 d
END:VEVENT
END:VCALENDAR
