BEGIN:VCALENDAR
VERSION:2.0
PRODID:-//https://www.uc-baltic.de///NONSGML kigkonsult.se iCalcreator 2.10.15//
METHOD:PUBLISH
BEGIN:VEVENT
UID:20260423T033610CEST-2470zC8Zm0@https://www.uc-baltic.de/
DTSTAMP:20260423T013610Z
DESCRIPTION: https://www.uc-baltic.de/veranstaltungen/kalender/ereignis/100
 8-clubabend
DTSTART:20240614T170000Z
DTEND:20240614T215900Z
LOCATION:Clubheim UC Baltic ()
SUMMARY:Clubabend
URL:https://www.uc-baltic.de/veranstaltungen/kalender/ereignis/1008-clubabe
 nd
END:VEVENT
BEGIN:VEVENT
UID:20260423T033610CEST-24736ds8wU@https://www.uc-baltic.de/
DTSTAMP:20260423T013610Z
DESCRIPTION: https://www.uc-baltic.de/veranstaltungen/kalender/ereignis/104
 4-flossenschwimmen-mo-19-20-uhr
DTSTART:20240610T170000Z
DTEND:20240610T180000Z
LOCATION:Campusbad (Thomas-Fincke-Straße 19\, 24943 Flensburg)
SUMMARY:Flossenschwimmen\, Mo 19  - 20 Uhr
URL:https://www.uc-baltic.de/veranstaltungen/kalender/ereignis/1044-flossen
 schwimmen-mo-19-20-uhr
END:VEVENT
BEGIN:VEVENT
UID:20260423T033610CEST-2475PkG78a@https://www.uc-baltic.de/
DTSTAMP:20260423T013610Z
DESCRIPTION: https://www.uc-baltic.de/veranstaltungen/kalender/ereignis/105
 6-flossenschwimmen-mo-20-21-uhr
DTSTART:20240610T180000Z
DTEND:20240610T190000Z
LOCATION:Campusbad (Thomas-Fincke-Straße 19\, 24943 Flensburg)
SUMMARY:Flossenschwimmen\, Mo 20 - 21 Uhr
URL:https://www.uc-baltic.de/veranstaltungen/kalender/ereignis/1056-flossen
 schwimmen-mo-20-21-uhr
END:VEVENT
BEGIN:VEVENT
UID:20260423T033610CEST-2477fwKA4v@https://www.uc-baltic.de/
DTSTAMP:20260423T013610Z
DESCRIPTION: https://www.uc-baltic.de/veranstaltungen/kalender/ereignis/106
 8-uw-rugby-mo-20-21-uhr
DTSTART:20240610T180000Z
DTEND:20240610T190000Z
LOCATION:Campusbad (Thomas-Fincke-Straße 19\, 24943 Flensburg)
SUMMARY:UW-Rugby\, Mo 20 - 21 Uhr
URL:https://www.uc-baltic.de/veranstaltungen/kalender/ereignis/1068-uw-rugb
 y-mo-20-21-uhr
END:VEVENT
BEGIN:VEVENT
UID:20260423T033610CEST-2479B0Gvmn@https://www.uc-baltic.de/
DTSTAMP:20260423T013610Z
DESCRIPTION: https://www.uc-baltic.de/veranstaltungen/kalender/ereignis/108
 1-flossenschwimmen-do-16-17-uhr
DTSTART:20240613T140000Z
DTEND:20240613T150000Z
LOCATION:Campusbad (Thomas-Fincke-Straße 19\, 24943 Flensburg)
SUMMARY:Flossenschwimmen\, Do 16 - 17 Uhr
URL:https://www.uc-baltic.de/veranstaltungen/kalender/ereignis/1081-flossen
 schwimmen-do-16-17-uhr
END:VEVENT
BEGIN:VEVENT
UID:20260423T033610CEST-2481UwDGTB@https://www.uc-baltic.de/
DTSTAMP:20260423T013610Z
DESCRIPTION: https://www.uc-baltic.de/veranstaltungen/kalender/ereignis/109
 3-flossenschwimmen-di-19-20-uhr
DTSTART:20240611T170000Z
DTEND:20240611T180000Z
LOCATION:Campusbad (Thomas-Fincke-Straße 19\, 24943 Flensburg)
SUMMARY:Flossenschwimmen\, Di 19 - 20 Uhr
URL:https://www.uc-baltic.de/veranstaltungen/kalender/ereignis/1093-flossen
 schwimmen-di-19-20-uhr
END:VEVENT
END:VCALENDAR
