BEGIN:VCALENDAR
VERSION:2.0
PRODID:-//https://www.uc-baltic.de///NONSGML kigkonsult.se iCalcreator 2.10.15//
METHOD:PUBLISH
BEGIN:VEVENT
UID:20260420T053642CEST-8221Bapxbv@https://www.uc-baltic.de/
DTSTAMP:20260420T033642Z
DESCRIPTION: https://www.uc-baltic.de/veranstaltungen/kalender/ereignis/130
 2-clubabend
DTSTART:20250613T170000Z
DTEND:20250613T215900Z
LOCATION:Unterwasserclub Baltic e.V.  (Fahrensodde 20\, 24944 Flensburg)
SUMMARY:Clubabend
URL:https://www.uc-baltic.de/veranstaltungen/kalender/ereignis/1302-clubabe
 nd
END:VEVENT
BEGIN:VEVENT
UID:20260420T053642CEST-8225IVscKN@https://www.uc-baltic.de/
DTSTAMP:20260420T033642Z
DESCRIPTION: https://www.uc-baltic.de/veranstaltungen/kalender/ereignis/145
 1-flossenschwimmen-di-19-00-20-00-uhr
DTSTART:20250610T170000Z
DTEND:20250610T180000Z
LOCATION:Campusbad (Thomas-Fincke-Straße 19\, 24943 Flensburg)
SUMMARY:Flossenschwimmen\, Di 19:00 -20:00 Uhr
URL:https://www.uc-baltic.de/veranstaltungen/kalender/ereignis/1451-flossen
 schwimmen-di-19-00-20-00-uhr
END:VEVENT
BEGIN:VEVENT
UID:20260420T053642CEST-82287w06xK@https://www.uc-baltic.de/
DTSTAMP:20260420T033642Z
DESCRIPTION: https://www.uc-baltic.de/veranstaltungen/kalender/ereignis/146
 4-flossenschwimmen-do-16-00-17-00-uhr
DTSTART:20250612T140000Z
DTEND:20250612T150000Z
LOCATION:Campusbad (Thomas-Fincke-Straße 19\, 24943 Flensburg)
SUMMARY:Flossenschwimmen\, Do 16:00 - 17:00 Uhr
URL:https://www.uc-baltic.de/veranstaltungen/kalender/ereignis/1464-flossen
 schwimmen-do-16-00-17-00-uhr
END:VEVENT
BEGIN:VEVENT
UID:20260420T053642CEST-8230IkzWEA@https://www.uc-baltic.de/
DTSTAMP:20260420T033642Z
DESCRIPTION: https://www.uc-baltic.de/veranstaltungen/kalender/ereignis/147
 7-flossenschwimmen-fr-20-00-21-00-uhr
DTSTART:20250613T180000Z
DTEND:20250613T190000Z
LOCATION:Campusbad (Thomas-Fincke-Straße 19\, 24943 Flensburg)
SUMMARY:Flossenschwimmen\, Fr 20:00 - 21:00 Uhr
URL:https://www.uc-baltic.de/veranstaltungen/kalender/ereignis/1477-flossen
 schwimmen-fr-20-00-21-00-uhr
END:VEVENT
END:VCALENDAR
