BEGIN:VCALENDAR
VERSION:2.0
PRODID:-//https://www.uc-baltic.de///NONSGML kigkonsult.se iCalcreator 2.10.15//
METHOD:PUBLISH
BEGIN:VEVENT
UID:20260419T162724CEST-4020VT9OMa@https://www.uc-baltic.de/
DTSTAMP:20260419T142724Z
DESCRIPTION: https://www.uc-baltic.de/veranstaltungen/kalender/ereignis/185
 5-flossenschwimmen-mo-19-00-20-00-unr
DTSTART:20260608T170000Z
DTEND:20260608T180000Z
LOCATION:Campusbad (Thomas-Fincke-Straße 19\, 24943 Flensburg)
SUMMARY:Flossenschwimmen\, Mo 19:00 - 20:00 Unr
URL:https://www.uc-baltic.de/veranstaltungen/kalender/ereignis/1855-flossen
 schwimmen-mo-19-00-20-00-unr
END:VEVENT
BEGIN:VEVENT
UID:20260419T162724CEST-4023u2ZTDu@https://www.uc-baltic.de/
DTSTAMP:20260419T142724Z
DESCRIPTION: https://www.uc-baltic.de/veranstaltungen/kalender/ereignis/186
 6-flossenschwimmen-mo-20-00-21-00-uhr
DTSTART:20260608T180000Z
DTEND:20260608T190000Z
LOCATION:Campusbad (Thomas-Fincke-Straße 19\, 24943 Flensburg)
SUMMARY:Flossenschwimmen\, Mo 20:00 - 21:00 Uhr
URL:https://www.uc-baltic.de/veranstaltungen/kalender/ereignis/1866-flossen
 schwimmen-mo-20-00-21-00-uhr
END:VEVENT
BEGIN:VEVENT
UID:20260419T162724CEST-4026CXwjU0@https://www.uc-baltic.de/
DTSTAMP:20260419T142724Z
DESCRIPTION: https://www.uc-baltic.de/veranstaltungen/kalender/ereignis/187
 7-uw-rugby-mo-20-00-21-00-uhr
DTSTART:20260608T180000Z
DTEND:20260608T190000Z
LOCATION:Campusbad (Thomas-Fincke-Straße 19\, 24943 Flensburg)
SUMMARY:UW-Rugby\, Mo 20:00 - 21:00 Uhr
URL:https://www.uc-baltic.de/veranstaltungen/kalender/ereignis/1877-uw-rugb
 y-mo-20-00-21-00-uhr
END:VEVENT
BEGIN:VEVENT
UID:20260419T162724CEST-4028Lo38pd@https://www.uc-baltic.de/
DTSTAMP:20260419T142724Z
DESCRIPTION: https://www.uc-baltic.de/veranstaltungen/kalender/ereignis/188
 9-flossenschwimmen-di-19-00-20-00-uhr
DTSTART:20260609T170000Z
DTEND:20260609T180000Z
LOCATION:Campusbad (Thomas-Fincke-Straße 19\, 24943 Flensburg)
SUMMARY:Flossenschwimmen\, Di 19:00 - 20:00 Uhr
URL:https://www.uc-baltic.de/veranstaltungen/kalender/ereignis/1889-flossen
 schwimmen-di-19-00-20-00-uhr
END:VEVENT
BEGIN:VEVENT
UID:20260419T162724CEST-4030JW5oVM@https://www.uc-baltic.de/
DTSTAMP:20260419T142724Z
DESCRIPTION: https://www.uc-baltic.de/veranstaltungen/kalender/ereignis/190
 0-flossenschwimmen-do-16-00-uhr
DTSTART:20260611T140000Z
DTEND:20260611T150000Z
LOCATION:Campusbad (Thomas-Fincke-Straße 19\, 24943 Flensburg)
SUMMARY:Flossenschwimmen\, Do 16:00 Uhr
URL:https://www.uc-baltic.de/veranstaltungen/kalender/ereignis/1900-flossen
 schwimmen-do-16-00-uhr
END:VEVENT
BEGIN:VEVENT
UID:20260419T162724CEST-4032hSFeWu@https://www.uc-baltic.de/
DTSTAMP:20260419T142724Z
DESCRIPTION: https://www.uc-baltic.de/veranstaltungen/kalender/ereignis/191
 0-flossenschwimmen-fr-20-00-21-00-uhr
DTSTART:20260612T180000Z
DTEND:20260612T190000Z
LOCATION:Campusbad (Thomas-Fincke-Straße 19\, 24943 Flensburg)
SUMMARY:Flossenschwimmen\, Fr 20:00 - 21:00 Uhr
URL:https://www.uc-baltic.de/veranstaltungen/kalender/ereignis/1910-flossen
 schwimmen-fr-20-00-21-00-uhr
END:VEVENT
END:VCALENDAR
