BEGIN:VCALENDAR
VERSION:2.0
PRODID:-//https://www.uc-baltic.de///NONSGML kigkonsult.se iCalcreator 2.10.15//
METHOD:PUBLISH
BEGIN:VEVENT
UID:20260423T033610CEST-5856DKbvJN@https://www.uc-baltic.de/
DTSTAMP:20260423T013610Z
DESCRIPTION: https://www.uc-baltic.de/veranstaltungen/kalender/ereignis/104
 3-flossenschwimmen-mo-19-20-uhr
DTSTART:20240603T170000Z
DTEND:20240603T180000Z
LOCATION:Campusbad (Thomas-Fincke-Straße 19\, 24943 Flensburg)
SUMMARY:Flossenschwimmen\, Mo 19  - 20 Uhr
URL:https://www.uc-baltic.de/veranstaltungen/kalender/ereignis/1043-flossen
 schwimmen-mo-19-20-uhr
END:VEVENT
BEGIN:VEVENT
UID:20260423T033610CEST-5859VXwJU7@https://www.uc-baltic.de/
DTSTAMP:20260423T013610Z
DESCRIPTION: https://www.uc-baltic.de/veranstaltungen/kalender/ereignis/105
 5-flossenschwimmen-mo-20-21-uhr
DTSTART:20240603T180000Z
DTEND:20240603T190000Z
LOCATION:Campusbad (Thomas-Fincke-Straße 19\, 24943 Flensburg)
SUMMARY:Flossenschwimmen\, Mo 20 - 21 Uhr
URL:https://www.uc-baltic.de/veranstaltungen/kalender/ereignis/1055-flossen
 schwimmen-mo-20-21-uhr
END:VEVENT
BEGIN:VEVENT
UID:20260423T033610CEST-5863K0UtIO@https://www.uc-baltic.de/
DTSTAMP:20260423T013610Z
DESCRIPTION: https://www.uc-baltic.de/veranstaltungen/kalender/ereignis/106
 7-uw-rugby-mo-20-21-uhr
DTSTART:20240603T180000Z
DTEND:20240603T190000Z
LOCATION:Campusbad (Thomas-Fincke-Straße 19\, 24943 Flensburg)
SUMMARY:UW-Rugby\, Mo 20 - 21 Uhr
URL:https://www.uc-baltic.de/veranstaltungen/kalender/ereignis/1067-uw-rugb
 y-mo-20-21-uhr
END:VEVENT
BEGIN:VEVENT
UID:20260423T033610CEST-5866Pip8NZ@https://www.uc-baltic.de/
DTSTAMP:20260423T013610Z
DESCRIPTION: https://www.uc-baltic.de/veranstaltungen/kalender/ereignis/108
 0-flossenschwimmen-do-16-17-uhr
DTSTART:20240606T140000Z
DTEND:20240606T150000Z
LOCATION:Campusbad (Thomas-Fincke-Straße 19\, 24943 Flensburg)
SUMMARY:Flossenschwimmen\, Do 16 - 17 Uhr
URL:https://www.uc-baltic.de/veranstaltungen/kalender/ereignis/1080-flossen
 schwimmen-do-16-17-uhr
END:VEVENT
BEGIN:VEVENT
UID:20260423T033610CEST-5869NiJJ30@https://www.uc-baltic.de/
DTSTAMP:20260423T013610Z
DESCRIPTION: https://www.uc-baltic.de/veranstaltungen/kalender/ereignis/109
 2-flossenschwimmen-di-19-20-uhr
DTSTART:20240604T170000Z
DTEND:20240604T180000Z
LOCATION:Campusbad (Thomas-Fincke-Straße 19\, 24943 Flensburg)
SUMMARY:Flossenschwimmen\, Di 19 - 20 Uhr
URL:https://www.uc-baltic.de/veranstaltungen/kalender/ereignis/1092-flossen
 schwimmen-di-19-20-uhr
END:VEVENT
END:VCALENDAR
