BEGIN:VCALENDAR
VERSION:2.0
PRODID:-//https://www.uc-baltic.de///NONSGML kigkonsult.se iCalcreator 2.10.15//
METHOD:PUBLISH
BEGIN:VEVENT
UID:20260420T053644CEST-2320M50Hl5@https://www.uc-baltic.de/
DTSTAMP:20260420T033644Z
DESCRIPTION: https://www.uc-baltic.de/veranstaltungen/kalender/ereignis/145
 0-flossenschwimmen-di-19-00-20-00-uhr
DTSTART:20250603T170000Z
DTEND:20250603T180000Z
LOCATION:Campusbad (Thomas-Fincke-Straße 19\, 24943 Flensburg)
SUMMARY:Flossenschwimmen\, Di 19:00 -20:00 Uhr
URL:https://www.uc-baltic.de/veranstaltungen/kalender/ereignis/1450-flossen
 schwimmen-di-19-00-20-00-uhr
END:VEVENT
BEGIN:VEVENT
UID:20260420T053644CEST-2323AObEGV@https://www.uc-baltic.de/
DTSTAMP:20260420T033644Z
DESCRIPTION: https://www.uc-baltic.de/veranstaltungen/kalender/ereignis/146
 3-flossenschwimmen-do-16-00-17-00-uhr
DTSTART:20250605T140000Z
DTEND:20250605T150000Z
LOCATION:Campusbad (Thomas-Fincke-Straße 19\, 24943 Flensburg)
SUMMARY:Flossenschwimmen\, Do 16:00 - 17:00 Uhr
URL:https://www.uc-baltic.de/veranstaltungen/kalender/ereignis/1463-flossen
 schwimmen-do-16-00-17-00-uhr
END:VEVENT
BEGIN:VEVENT
UID:20260420T053644CEST-2325oMdDdu@https://www.uc-baltic.de/
DTSTAMP:20260420T033644Z
DESCRIPTION: https://www.uc-baltic.de/veranstaltungen/kalender/ereignis/148
 9-flossenschwimmen-mo-19-00-20-00-uhr
DTSTART:20250602T170000Z
DTEND:20250602T180000Z
LOCATION:Campusbad (Thomas-Fincke-Straße 19\, 24943 Flensburg)
SUMMARY:Flossenschwimmen\, Mo 19:00 - 20:00 Uhr
URL:https://www.uc-baltic.de/veranstaltungen/kalender/ereignis/1489-flossen
 schwimmen-mo-19-00-20-00-uhr
END:VEVENT
BEGIN:VEVENT
UID:20260420T053644CEST-2327N7Pwuw@https://www.uc-baltic.de/
DTSTAMP:20260420T033644Z
DESCRIPTION: https://www.uc-baltic.de/veranstaltungen/kalender/ereignis/150
 1-flossenschwimmen-mo-20-00-21-00
DTSTART:20250602T180000Z
DTEND:20250602T190000Z
LOCATION:Campusbad (Thomas-Fincke-Straße 19\, 24943 Flensburg)
SUMMARY:Flossenschwimmen\, Mo 20:00 - 21:00
URL:https://www.uc-baltic.de/veranstaltungen/kalender/ereignis/1501-flossen
 schwimmen-mo-20-00-21-00
END:VEVENT
BEGIN:VEVENT
UID:20260420T053644CEST-2329iP39R0@https://www.uc-baltic.de/
DTSTAMP:20260420T033644Z
DESCRIPTION: https://www.uc-baltic.de/veranstaltungen/kalender/ereignis/151
 3-uw-rugby-mo-20-00-21-00-uhr
DTSTART:20250602T180000Z
DTEND:20250602T190000Z
LOCATION:Campusbad (Thomas-Fincke-Straße 19\, 24943 Flensburg)
SUMMARY:UW-Rugby\, Mo 20:00 - 21:00 Uhr
URL:https://www.uc-baltic.de/veranstaltungen/kalender/ereignis/1513-uw-rugb
 y-mo-20-00-21-00-uhr
END:VEVENT
END:VCALENDAR
