BEGIN:VCALENDAR
VERSION:2.0
PRODID:-//https://www.uc-baltic.de///NONSGML kigkonsult.se iCalcreator 2.10.15//
METHOD:PUBLISH
BEGIN:VEVENT
UID:20260419T162704CEST-5373CUKeNr@https://www.uc-baltic.de/
DTSTAMP:20260419T142704Z
DESCRIPTION:SK Tauchfertigkeiten des DUC KielWeitere Informationen bei alex
 andra@uc-baltic.de https://www.uc-baltic.de/veranstaltungen/kalender/ereig
 nis/1810-sk-tauchfertigkeiten
DTSTART:20260605T130000Z
DTEND:20260607T170000Z
LOCATION:DUC Kiel ()
SUMMARY:SK Tauchfertigkeiten
URL:https://www.uc-baltic.de/veranstaltungen/kalender/ereignis/1810-sk-tauc
 hfertigkeiten
END:VEVENT
BEGIN:VEVENT
UID:20260419T162704CEST-5377UoIWHA@https://www.uc-baltic.de/
DTSTAMP:20260419T142704Z
DESCRIPTION: https://www.uc-baltic.de/veranstaltungen/kalender/ereignis/185
 4-flossenschwimmen-mo-19-00-20-00-unr
DTSTART:20260601T170000Z
DTEND:20260601T180000Z
LOCATION:Campusbad (Thomas-Fincke-Straße 19\, 24943 Flensburg)
SUMMARY:Flossenschwimmen\, Mo 19:00 - 20:00 Unr
URL:https://www.uc-baltic.de/veranstaltungen/kalender/ereignis/1854-flossen
 schwimmen-mo-19-00-20-00-unr
END:VEVENT
BEGIN:VEVENT
UID:20260419T162704CEST-5379AUND6Z@https://www.uc-baltic.de/
DTSTAMP:20260419T142704Z
DESCRIPTION: https://www.uc-baltic.de/veranstaltungen/kalender/ereignis/186
 5-flossenschwimmen-mo-20-00-21-00-uhr
DTSTART:20260601T180000Z
DTEND:20260601T190000Z
LOCATION:Campusbad (Thomas-Fincke-Straße 19\, 24943 Flensburg)
SUMMARY:Flossenschwimmen\, Mo 20:00 - 21:00 Uhr
URL:https://www.uc-baltic.de/veranstaltungen/kalender/ereignis/1865-flossen
 schwimmen-mo-20-00-21-00-uhr
END:VEVENT
BEGIN:VEVENT
UID:20260419T162704CEST-5381D0OV7u@https://www.uc-baltic.de/
DTSTAMP:20260419T142704Z
DESCRIPTION: https://www.uc-baltic.de/veranstaltungen/kalender/ereignis/187
 6-uw-rugby-mo-20-00-21-00-uhr
DTSTART:20260601T180000Z
DTEND:20260601T190000Z
LOCATION:Campusbad (Thomas-Fincke-Straße 19\, 24943 Flensburg)
SUMMARY:UW-Rugby\, Mo 20:00 - 21:00 Uhr
URL:https://www.uc-baltic.de/veranstaltungen/kalender/ereignis/1876-uw-rugb
 y-mo-20-00-21-00-uhr
END:VEVENT
BEGIN:VEVENT
UID:20260419T162704CEST-5384g2X3Zz@https://www.uc-baltic.de/
DTSTAMP:20260419T142704Z
DESCRIPTION: https://www.uc-baltic.de/veranstaltungen/kalender/ereignis/188
 8-flossenschwimmen-di-19-00-20-00-uhr
DTSTART:20260602T170000Z
DTEND:20260602T180000Z
LOCATION:Campusbad (Thomas-Fincke-Straße 19\, 24943 Flensburg)
SUMMARY:Flossenschwimmen\, Di 19:00 - 20:00 Uhr
URL:https://www.uc-baltic.de/veranstaltungen/kalender/ereignis/1888-flossen
 schwimmen-di-19-00-20-00-uhr
END:VEVENT
BEGIN:VEVENT
UID:20260419T162704CEST-53869sjWVG@https://www.uc-baltic.de/
DTSTAMP:20260419T142704Z
DESCRIPTION: https://www.uc-baltic.de/veranstaltungen/kalender/ereignis/189
 9-flossenschwimmen-do-16-00-uhr
DTSTART:20260604T140000Z
DTEND:20260604T150000Z
LOCATION:Campusbad (Thomas-Fincke-Straße 19\, 24943 Flensburg)
SUMMARY:Flossenschwimmen\, Do 16:00 Uhr
URL:https://www.uc-baltic.de/veranstaltungen/kalender/ereignis/1899-flossen
 schwimmen-do-16-00-uhr
END:VEVENT
BEGIN:VEVENT
UID:20260419T162704CEST-5388uWFAO0@https://www.uc-baltic.de/
DTSTAMP:20260419T142704Z
DESCRIPTION: https://www.uc-baltic.de/veranstaltungen/kalender/ereignis/190
 9-flossenschwimmen-fr-20-00-21-00-uhr
DTSTART:20260605T180000Z
DTEND:20260605T190000Z
LOCATION:Campusbad (Thomas-Fincke-Straße 19\, 24943 Flensburg)
SUMMARY:Flossenschwimmen\, Fr 20:00 - 21:00 Uhr
URL:https://www.uc-baltic.de/veranstaltungen/kalender/ereignis/1909-flossen
 schwimmen-fr-20-00-21-00-uhr
END:VEVENT
END:VCALENDAR
