BEGIN:VCALENDAR
VERSION:2.0
PRODID:-//https://www.uc-baltic.de///NONSGML kigkonsult.se iCalcreator 2.10.15//
METHOD:PUBLISH
BEGIN:VEVENT
UID:20260420T053643CEST-18344VVfhg@https://www.uc-baltic.de/
DTSTAMP:20260420T033643Z
DESCRIPTION: https://www.uc-baltic.de/veranstaltungen/kalender/ereignis/130
 1-clubabend
DTSTART:20250530T170000Z
DTEND:20250530T215900Z
LOCATION:Unterwasserclub Baltic e.V.  (Fahrensodde 20\, 24944 Flensburg)
SUMMARY:Clubabend
URL:https://www.uc-baltic.de/veranstaltungen/kalender/ereignis/1301-clubabe
 nd
END:VEVENT
BEGIN:VEVENT
UID:20260420T053643CEST-1837A58ij4@https://www.uc-baltic.de/
DTSTAMP:20260420T033643Z
DESCRIPTION: https://www.uc-baltic.de/veranstaltungen/kalender/ereignis/144
 9-flossenschwimmen-di-19-00-20-00-uhr
DTSTART:20250527T170000Z
DTEND:20250527T180000Z
LOCATION:Campusbad (Thomas-Fincke-Straße 19\, 24943 Flensburg)
SUMMARY:Flossenschwimmen\, Di 19:00 -20:00 Uhr
URL:https://www.uc-baltic.de/veranstaltungen/kalender/ereignis/1449-flossen
 schwimmen-di-19-00-20-00-uhr
END:VEVENT
BEGIN:VEVENT
UID:20260420T053643CEST-1840JDF23i@https://www.uc-baltic.de/
DTSTAMP:20260420T033643Z
DESCRIPTION: https://www.uc-baltic.de/veranstaltungen/kalender/ereignis/147
 5-flossenschwimmen-fr-20-00-21-00-uhr
DTSTART:20250530T180000Z
DTEND:20250530T190000Z
LOCATION:Campusbad (Thomas-Fincke-Straße 19\, 24943 Flensburg)
SUMMARY:Flossenschwimmen\, Fr 20:00 - 21:00 Uhr
URL:https://www.uc-baltic.de/veranstaltungen/kalender/ereignis/1475-flossen
 schwimmen-fr-20-00-21-00-uhr
END:VEVENT
BEGIN:VEVENT
UID:20260420T053643CEST-1842zkMJjl@https://www.uc-baltic.de/
DTSTAMP:20260420T033643Z
DESCRIPTION: https://www.uc-baltic.de/veranstaltungen/kalender/ereignis/148
 8-flossenschwimmen-mo-19-00-20-00-uhr
DTSTART:20250526T170000Z
DTEND:20250526T180000Z
LOCATION:Campusbad (Thomas-Fincke-Straße 19\, 24943 Flensburg)
SUMMARY:Flossenschwimmen\, Mo 19:00 - 20:00 Uhr
URL:https://www.uc-baltic.de/veranstaltungen/kalender/ereignis/1488-flossen
 schwimmen-mo-19-00-20-00-uhr
END:VEVENT
BEGIN:VEVENT
UID:20260420T053643CEST-1845FooUcJ@https://www.uc-baltic.de/
DTSTAMP:20260420T033643Z
DESCRIPTION: https://www.uc-baltic.de/veranstaltungen/kalender/ereignis/150
 0-flossenschwimmen-mo-20-00-21-00
DTSTART:20250526T180000Z
DTEND:20250526T190000Z
LOCATION:Campusbad (Thomas-Fincke-Straße 19\, 24943 Flensburg)
SUMMARY:Flossenschwimmen\, Mo 20:00 - 21:00
URL:https://www.uc-baltic.de/veranstaltungen/kalender/ereignis/1500-flossen
 schwimmen-mo-20-00-21-00
END:VEVENT
BEGIN:VEVENT
UID:20260420T053643CEST-1848bwguk5@https://www.uc-baltic.de/
DTSTAMP:20260420T033643Z
DESCRIPTION: https://www.uc-baltic.de/veranstaltungen/kalender/ereignis/151
 2-uw-rugby-mo-20-00-21-00-uhr
DTSTART:20250526T180000Z
DTEND:20250526T190000Z
LOCATION:Campusbad (Thomas-Fincke-Straße 19\, 24943 Flensburg)
SUMMARY:UW-Rugby\, Mo 20:00 - 21:00 Uhr
URL:https://www.uc-baltic.de/veranstaltungen/kalender/ereignis/1512-uw-rugb
 y-mo-20-00-21-00-uhr
END:VEVENT
END:VCALENDAR
