BEGIN:VCALENDAR
VERSION:2.0
PRODID:-//https://www.uc-baltic.de///NONSGML kigkonsult.se iCalcreator 2.10.15//
METHOD:PUBLISH
BEGIN:VEVENT
UID:20260419T150714CEST-4965wKTMn7@https://www.uc-baltic.de/
DTSTAMP:20260419T130714Z
DESCRIPTION: https://www.uc-baltic.de/veranstaltungen/kalender/ereignis/188
 7-flossenschwimmen-di-19-00-20-00-uhr
DTSTART:20260526T170000Z
DTEND:20260526T180000Z
LOCATION:Campusbad (Thomas-Fincke-Straße 19\, 24943 Flensburg)
SUMMARY:Flossenschwimmen\, Di 19:00 - 20:00 Uhr
URL:https://www.uc-baltic.de/veranstaltungen/kalender/ereignis/1887-flossen
 schwimmen-di-19-00-20-00-uhr
END:VEVENT
BEGIN:VEVENT
UID:20260419T150714CEST-49682zei0L@https://www.uc-baltic.de/
DTSTAMP:20260419T130714Z
DESCRIPTION: https://www.uc-baltic.de/veranstaltungen/kalender/ereignis/189
 8-flossenschwimmen-do-16-00-uhr
DTSTART:20260528T140000Z
DTEND:20260528T150000Z
LOCATION:Campusbad (Thomas-Fincke-Straße 19\, 24943 Flensburg)
SUMMARY:Flossenschwimmen\, Do 16:00 Uhr
URL:https://www.uc-baltic.de/veranstaltungen/kalender/ereignis/1898-flossen
 schwimmen-do-16-00-uhr
END:VEVENT
BEGIN:VEVENT
UID:20260419T150714CEST-4972nNgBdr@https://www.uc-baltic.de/
DTSTAMP:20260419T130714Z
DESCRIPTION: https://www.uc-baltic.de/veranstaltungen/kalender/ereignis/190
 8-flossenschwimmen-fr-20-00-21-00-uhr
DTSTART:20260529T180000Z
DTEND:20260529T190000Z
LOCATION:Campusbad (Thomas-Fincke-Straße 19\, 24943 Flensburg)
SUMMARY:Flossenschwimmen\, Fr 20:00 - 21:00 Uhr
URL:https://www.uc-baltic.de/veranstaltungen/kalender/ereignis/1908-flossen
 schwimmen-fr-20-00-21-00-uhr
END:VEVENT
END:VCALENDAR
