BEGIN:VCALENDAR
VERSION:2.0
PRODID:-//https://www.uc-baltic.de///NONSGML kigkonsult.se iCalcreator 2.10.15//
METHOD:PUBLISH
BEGIN:VEVENT
UID:20260420T071358CEST-0380VpxuKF@https://www.uc-baltic.de/
DTSTAMP:20260420T051358Z
DESCRIPTION: https://www.uc-baltic.de/veranstaltungen/kalender/ereignis/144
 8-flossenschwimmen-di-19-00-20-00-uhr
DTSTART:20250520T170000Z
DTEND:20250520T180000Z
LOCATION:Campusbad (Thomas-Fincke-Straße 19\, 24943 Flensburg)
SUMMARY:Flossenschwimmen\, Di 19:00 -20:00 Uhr
URL:https://www.uc-baltic.de/veranstaltungen/kalender/ereignis/1448-flossen
 schwimmen-di-19-00-20-00-uhr
END:VEVENT
BEGIN:VEVENT
UID:20260420T071358CEST-0384PbUTbh@https://www.uc-baltic.de/
DTSTAMP:20260420T051358Z
DESCRIPTION: https://www.uc-baltic.de/veranstaltungen/kalender/ereignis/146
 2-flossenschwimmen-do-16-00-17-00-uhr
DTSTART:20250522T140000Z
DTEND:20250522T150000Z
LOCATION:Campusbad (Thomas-Fincke-Straße 19\, 24943 Flensburg)
SUMMARY:Flossenschwimmen\, Do 16:00 - 17:00 Uhr
URL:https://www.uc-baltic.de/veranstaltungen/kalender/ereignis/1462-flossen
 schwimmen-do-16-00-17-00-uhr
END:VEVENT
BEGIN:VEVENT
UID:20260420T071358CEST-0386wj8nx5@https://www.uc-baltic.de/
DTSTAMP:20260420T051358Z
DESCRIPTION: https://www.uc-baltic.de/veranstaltungen/kalender/ereignis/147
 4-flossenschwimmen-fr-20-00-21-00-uhr
DTSTART:20250523T180000Z
DTEND:20250523T190000Z
LOCATION:Campusbad (Thomas-Fincke-Straße 19\, 24943 Flensburg)
SUMMARY:Flossenschwimmen\, Fr 20:00 - 21:00 Uhr
URL:https://www.uc-baltic.de/veranstaltungen/kalender/ereignis/1474-flossen
 schwimmen-fr-20-00-21-00-uhr
END:VEVENT
BEGIN:VEVENT
UID:20260420T071358CEST-0388srVu5k@https://www.uc-baltic.de/
DTSTAMP:20260420T051358Z
DESCRIPTION: https://www.uc-baltic.de/veranstaltungen/kalender/ereignis/148
 7-flossenschwimmen-mo-19-00-20-00-uhr
DTSTART:20250519T170000Z
DTEND:20250519T180000Z
LOCATION:Campusbad (Thomas-Fincke-Straße 19\, 24943 Flensburg)
SUMMARY:Flossenschwimmen\, Mo 19:00 - 20:00 Uhr
URL:https://www.uc-baltic.de/veranstaltungen/kalender/ereignis/1487-flossen
 schwimmen-mo-19-00-20-00-uhr
END:VEVENT
BEGIN:VEVENT
UID:20260420T071358CEST-0390uGFfxs@https://www.uc-baltic.de/
DTSTAMP:20260420T051358Z
DESCRIPTION: https://www.uc-baltic.de/veranstaltungen/kalender/ereignis/149
 9-flossenschwimmen-mo-20-00-21-00
DTSTART:20250519T180000Z
DTEND:20250519T190000Z
LOCATION:Campusbad (Thomas-Fincke-Straße 19\, 24943 Flensburg)
SUMMARY:Flossenschwimmen\, Mo 20:00 - 21:00
URL:https://www.uc-baltic.de/veranstaltungen/kalender/ereignis/1499-flossen
 schwimmen-mo-20-00-21-00
END:VEVENT
BEGIN:VEVENT
UID:20260420T071358CEST-0392ilB2r1@https://www.uc-baltic.de/
DTSTAMP:20260420T051358Z
DESCRIPTION: https://www.uc-baltic.de/veranstaltungen/kalender/ereignis/151
 1-uw-rugby-mo-20-00-21-00-uhr
DTSTART:20250519T180000Z
DTEND:20250519T190000Z
LOCATION:Campusbad (Thomas-Fincke-Straße 19\, 24943 Flensburg)
SUMMARY:UW-Rugby\, Mo 20:00 - 21:00 Uhr
URL:https://www.uc-baltic.de/veranstaltungen/kalender/ereignis/1511-uw-rugb
 y-mo-20-00-21-00-uhr
END:VEVENT
END:VCALENDAR
