BEGIN:VCALENDAR
VERSION:2.0
PRODID:-//https://www.uc-baltic.de///NONSGML kigkonsult.se iCalcreator 2.10.15//
METHOD:PUBLISH
BEGIN:VEVENT
UID:20260424T032923CEST-9165KaPGNH@https://www.uc-baltic.de/
DTSTAMP:20260424T012923Z
DESCRIPTION: https://www.uc-baltic.de/veranstaltungen/kalender/ereignis/441
 -clubabend
DTSTART:20230519T180000Z
DTEND:20230519T210000Z
LOCATION:Clubheim UC Baltic ()
SUMMARY:Clubabend
URL:https://www.uc-baltic.de/veranstaltungen/kalender/ereignis/441-clubaben
 d
END:VEVENT
END:VCALENDAR
