BEGIN:VCALENDAR
VERSION:2.0
PRODID:-//https://www.uc-baltic.de///NONSGML kigkonsult.se iCalcreator 2.10.15//
METHOD:PUBLISH
BEGIN:VEVENT
UID:20260423T055025CEST-9774g8RMRU@https://www.uc-baltic.de/
DTSTAMP:20260423T035025Z
DESCRIPTION: https://www.uc-baltic.de/veranstaltungen/kalender/ereignis/100
 4-clubabend
DTSTART:20240517T170000Z
DTEND:20240517T215900Z
LOCATION:Clubheim UC Baltic ()
SUMMARY:Clubabend
URL:https://www.uc-baltic.de/veranstaltungen/kalender/ereignis/1004-clubabe
 nd
END:VEVENT
BEGIN:VEVENT
UID:20260423T055025CEST-9778vKg0Tt@https://www.uc-baltic.de/
DTSTAMP:20260423T035025Z
DESCRIPTION: https://www.uc-baltic.de/veranstaltungen/kalender/ereignis/104
 1-flossenschwimmen-mo-19-20-uhr
DTSTART:20240513T170000Z
DTEND:20240513T180000Z
LOCATION:Campusbad (Thomas-Fincke-Straße 19\, 24943 Flensburg)
SUMMARY:Flossenschwimmen\, Mo 19  - 20 Uhr
URL:https://www.uc-baltic.de/veranstaltungen/kalender/ereignis/1041-flossen
 schwimmen-mo-19-20-uhr
END:VEVENT
BEGIN:VEVENT
UID:20260423T055025CEST-9780uA3p6j@https://www.uc-baltic.de/
DTSTAMP:20260423T035025Z
DESCRIPTION: https://www.uc-baltic.de/veranstaltungen/kalender/ereignis/105
 3-flossenschwimmen-mo-20-21-uhr
DTSTART:20240513T180000Z
DTEND:20240513T190000Z
LOCATION:Campusbad (Thomas-Fincke-Straße 19\, 24943 Flensburg)
SUMMARY:Flossenschwimmen\, Mo 20 - 21 Uhr
URL:https://www.uc-baltic.de/veranstaltungen/kalender/ereignis/1053-flossen
 schwimmen-mo-20-21-uhr
END:VEVENT
BEGIN:VEVENT
UID:20260423T055025CEST-9782hvCREF@https://www.uc-baltic.de/
DTSTAMP:20260423T035025Z
DESCRIPTION: https://www.uc-baltic.de/veranstaltungen/kalender/ereignis/106
 5-uw-rugby-mo-20-21-uhr
DTSTART:20240513T180000Z
DTEND:20240513T190000Z
LOCATION:Campusbad (Thomas-Fincke-Straße 19\, 24943 Flensburg)
SUMMARY:UW-Rugby\, Mo 20 - 21 Uhr
URL:https://www.uc-baltic.de/veranstaltungen/kalender/ereignis/1065-uw-rugb
 y-mo-20-21-uhr
END:VEVENT
BEGIN:VEVENT
UID:20260423T055025CEST-9783szzFgg@https://www.uc-baltic.de/
DTSTAMP:20260423T035025Z
DESCRIPTION: https://www.uc-baltic.de/veranstaltungen/kalender/ereignis/107
 7-flossenschwimmen-do-16-17-uhr
DTSTART:20240516T140000Z
DTEND:20240516T150000Z
LOCATION:Campusbad (Thomas-Fincke-Straße 19\, 24943 Flensburg)
SUMMARY:Flossenschwimmen\, Do 16 - 17 Uhr
URL:https://www.uc-baltic.de/veranstaltungen/kalender/ereignis/1077-flossen
 schwimmen-do-16-17-uhr
END:VEVENT
BEGIN:VEVENT
UID:20260423T055025CEST-9785rnU3Wd@https://www.uc-baltic.de/
DTSTAMP:20260423T035025Z
DESCRIPTION: https://www.uc-baltic.de/veranstaltungen/kalender/ereignis/108
 9-flossenschwimmen-di-19-20-uhr
DTSTART:20240514T170000Z
DTEND:20240514T180000Z
LOCATION:Campusbad (Thomas-Fincke-Straße 19\, 24943 Flensburg)
SUMMARY:Flossenschwimmen\, Di 19 - 20 Uhr
URL:https://www.uc-baltic.de/veranstaltungen/kalender/ereignis/1089-flossen
 schwimmen-di-19-20-uhr
END:VEVENT
END:VCALENDAR
