BEGIN:VCALENDAR
VERSION:2.0
PRODID:-//https://www.uc-baltic.de///NONSGML kigkonsult.se iCalcreator 2.10.15//
METHOD:PUBLISH
BEGIN:VEVENT
UID:20260420T071508CEST-3187NHAnpu@https://www.uc-baltic.de/
DTSTAMP:20260420T051508Z
DESCRIPTION: https://www.uc-baltic.de/veranstaltungen/kalender/ereignis/130
 0-clubabend
DTSTART:20250516T170000Z
DTEND:20250516T215900Z
LOCATION:Unterwasserclub Baltic e.V.  (Fahrensodde 20\, 24944 Flensburg)
SUMMARY:Clubabend
URL:https://www.uc-baltic.de/veranstaltungen/kalender/ereignis/1300-clubabe
 nd
END:VEVENT
BEGIN:VEVENT
UID:20260420T071508CEST-3189wELx7p@https://www.uc-baltic.de/
DTSTAMP:20260420T051508Z
DESCRIPTION: https://www.uc-baltic.de/veranstaltungen/kalender/ereignis/144
 7-flossenschwimmen-di-19-00-20-00-uhr
DTSTART:20250513T170000Z
DTEND:20250513T180000Z
LOCATION:Campusbad (Thomas-Fincke-Straße 19\, 24943 Flensburg)
SUMMARY:Flossenschwimmen\, Di 19:00 -20:00 Uhr
URL:https://www.uc-baltic.de/veranstaltungen/kalender/ereignis/1447-flossen
 schwimmen-di-19-00-20-00-uhr
END:VEVENT
BEGIN:VEVENT
UID:20260420T071508CEST-3191gSUiDv@https://www.uc-baltic.de/
DTSTAMP:20260420T051508Z
DESCRIPTION: https://www.uc-baltic.de/veranstaltungen/kalender/ereignis/146
 1-flossenschwimmen-do-16-00-17-00-uhr
DTSTART:20250515T140000Z
DTEND:20250515T150000Z
LOCATION:Campusbad (Thomas-Fincke-Straße 19\, 24943 Flensburg)
SUMMARY:Flossenschwimmen\, Do 16:00 - 17:00 Uhr
URL:https://www.uc-baltic.de/veranstaltungen/kalender/ereignis/1461-flossen
 schwimmen-do-16-00-17-00-uhr
END:VEVENT
BEGIN:VEVENT
UID:20260420T071508CEST-31921mNu9a@https://www.uc-baltic.de/
DTSTAMP:20260420T051508Z
DESCRIPTION: https://www.uc-baltic.de/veranstaltungen/kalender/ereignis/147
 3-flossenschwimmen-fr-20-00-21-00-uhr
DTSTART:20250516T180000Z
DTEND:20250516T190000Z
LOCATION:Campusbad (Thomas-Fincke-Straße 19\, 24943 Flensburg)
SUMMARY:Flossenschwimmen\, Fr 20:00 - 21:00 Uhr
URL:https://www.uc-baltic.de/veranstaltungen/kalender/ereignis/1473-flossen
 schwimmen-fr-20-00-21-00-uhr
END:VEVENT
BEGIN:VEVENT
UID:20260420T071508CEST-3194hhA5Lw@https://www.uc-baltic.de/
DTSTAMP:20260420T051508Z
DESCRIPTION: https://www.uc-baltic.de/veranstaltungen/kalender/ereignis/148
 6-flossenschwimmen-mo-19-00-20-00-uhr
DTSTART:20250512T170000Z
DTEND:20250512T180000Z
LOCATION:Campusbad (Thomas-Fincke-Straße 19\, 24943 Flensburg)
SUMMARY:Flossenschwimmen\, Mo 19:00 - 20:00 Uhr
URL:https://www.uc-baltic.de/veranstaltungen/kalender/ereignis/1486-flossen
 schwimmen-mo-19-00-20-00-uhr
END:VEVENT
BEGIN:VEVENT
UID:20260420T071508CEST-3195lcw7oe@https://www.uc-baltic.de/
DTSTAMP:20260420T051508Z
DESCRIPTION: https://www.uc-baltic.de/veranstaltungen/kalender/ereignis/149
 8-flossenschwimmen-mo-20-00-21-00
DTSTART:20250512T180000Z
DTEND:20250512T190000Z
LOCATION:Campusbad (Thomas-Fincke-Straße 19\, 24943 Flensburg)
SUMMARY:Flossenschwimmen\, Mo 20:00 - 21:00
URL:https://www.uc-baltic.de/veranstaltungen/kalender/ereignis/1498-flossen
 schwimmen-mo-20-00-21-00
END:VEVENT
BEGIN:VEVENT
UID:20260420T071508CEST-3197n6hv55@https://www.uc-baltic.de/
DTSTAMP:20260420T051508Z
DESCRIPTION: https://www.uc-baltic.de/veranstaltungen/kalender/ereignis/151
 0-uw-rugby-mo-20-00-21-00-uhr
DTSTART:20250512T180000Z
DTEND:20250512T190000Z
LOCATION:Campusbad (Thomas-Fincke-Straße 19\, 24943 Flensburg)
SUMMARY:UW-Rugby\, Mo 20:00 - 21:00 Uhr
URL:https://www.uc-baltic.de/veranstaltungen/kalender/ereignis/1510-uw-rugb
 y-mo-20-00-21-00-uhr
END:VEVENT
END:VCALENDAR
