BEGIN:VCALENDAR
VERSION:2.0
PRODID:-//https://www.uc-baltic.de///NONSGML kigkonsult.se iCalcreator 2.10.15//
METHOD:PUBLISH
BEGIN:VEVENT
UID:20260419T150714CEST-0361eLrUhf@https://www.uc-baltic.de/
DTSTAMP:20260419T130714Z
DESCRIPTION: https://www.uc-baltic.de/veranstaltungen/kalender/ereignis/185
 1-flossenschwimmen-mo-19-00-20-00-unr
DTSTART:20260511T170000Z
DTEND:20260511T180000Z
LOCATION:Campusbad (Thomas-Fincke-Straße 19\, 24943 Flensburg)
SUMMARY:Flossenschwimmen\, Mo 19:00 - 20:00 Unr
URL:https://www.uc-baltic.de/veranstaltungen/kalender/ereignis/1851-flossen
 schwimmen-mo-19-00-20-00-unr
END:VEVENT
BEGIN:VEVENT
UID:20260419T150714CEST-0364ujfvll@https://www.uc-baltic.de/
DTSTAMP:20260419T130714Z
DESCRIPTION: https://www.uc-baltic.de/veranstaltungen/kalender/ereignis/186
 3-flossenschwimmen-mo-20-00-21-00-uhr
DTSTART:20260511T180000Z
DTEND:20260511T190000Z
LOCATION:Campusbad (Thomas-Fincke-Straße 19\, 24943 Flensburg)
SUMMARY:Flossenschwimmen\, Mo 20:00 - 21:00 Uhr
URL:https://www.uc-baltic.de/veranstaltungen/kalender/ereignis/1863-flossen
 schwimmen-mo-20-00-21-00-uhr
END:VEVENT
BEGIN:VEVENT
UID:20260419T150714CEST-0365UkUU0x@https://www.uc-baltic.de/
DTSTAMP:20260419T130714Z
DESCRIPTION: https://www.uc-baltic.de/veranstaltungen/kalender/ereignis/187
 4-uw-rugby-mo-20-00-21-00-uhr
DTSTART:20260511T180000Z
DTEND:20260511T190000Z
LOCATION:Campusbad (Thomas-Fincke-Straße 19\, 24943 Flensburg)
SUMMARY:UW-Rugby\, Mo 20:00 - 21:00 Uhr
URL:https://www.uc-baltic.de/veranstaltungen/kalender/ereignis/1874-uw-rugb
 y-mo-20-00-21-00-uhr
END:VEVENT
BEGIN:VEVENT
UID:20260419T150714CEST-0367J5s2gg@https://www.uc-baltic.de/
DTSTAMP:20260419T130714Z
DESCRIPTION: https://www.uc-baltic.de/veranstaltungen/kalender/ereignis/188
 5-flossenschwimmen-di-19-00-20-00-uhr
DTSTART:20260512T170000Z
DTEND:20260512T180000Z
LOCATION:Campusbad (Thomas-Fincke-Straße 19\, 24943 Flensburg)
SUMMARY:Flossenschwimmen\, Di 19:00 - 20:00 Uhr
URL:https://www.uc-baltic.de/veranstaltungen/kalender/ereignis/1885-flossen
 schwimmen-di-19-00-20-00-uhr
END:VEVENT
END:VCALENDAR
