BEGIN:VCALENDAR
VERSION:2.0
PRODID:-//https://www.uc-baltic.de///NONSGML kigkonsult.se iCalcreator 2.10.15//
METHOD:PUBLISH
BEGIN:VEVENT
UID:20260423T053905CEST-3293kUMj8t@https://www.uc-baltic.de/
DTSTAMP:20260423T033905Z
DESCRIPTION: https://www.uc-baltic.de/veranstaltungen/kalender/ereignis/104
 0-flossenschwimmen-mo-19-20-uhr
DTSTART:20240506T170000Z
DTEND:20240506T180000Z
LOCATION:Campusbad (Thomas-Fincke-Straße 19\, 24943 Flensburg)
SUMMARY:Flossenschwimmen\, Mo 19  - 20 Uhr
URL:https://www.uc-baltic.de/veranstaltungen/kalender/ereignis/1040-flossen
 schwimmen-mo-19-20-uhr
END:VEVENT
BEGIN:VEVENT
UID:20260423T053905CEST-3299aGsLGv@https://www.uc-baltic.de/
DTSTAMP:20260423T033905Z
DESCRIPTION: https://www.uc-baltic.de/veranstaltungen/kalender/ereignis/105
 2-flossenschwimmen-mo-20-21-uhr
DTSTART:20240506T180000Z
DTEND:20240506T190000Z
LOCATION:Campusbad (Thomas-Fincke-Straße 19\, 24943 Flensburg)
SUMMARY:Flossenschwimmen\, Mo 20 - 21 Uhr
URL:https://www.uc-baltic.de/veranstaltungen/kalender/ereignis/1052-flossen
 schwimmen-mo-20-21-uhr
END:VEVENT
BEGIN:VEVENT
UID:20260423T053905CEST-3301crIDje@https://www.uc-baltic.de/
DTSTAMP:20260423T033905Z
DESCRIPTION: https://www.uc-baltic.de/veranstaltungen/kalender/ereignis/106
 4-uw-rugby-mo-20-21-uhr
DTSTART:20240506T180000Z
DTEND:20240506T190000Z
LOCATION:Campusbad (Thomas-Fincke-Straße 19\, 24943 Flensburg)
SUMMARY:UW-Rugby\, Mo 20 - 21 Uhr
URL:https://www.uc-baltic.de/veranstaltungen/kalender/ereignis/1064-uw-rugb
 y-mo-20-21-uhr
END:VEVENT
BEGIN:VEVENT
UID:20260423T053905CEST-33044tJP5t@https://www.uc-baltic.de/
DTSTAMP:20260423T033905Z
DESCRIPTION: https://www.uc-baltic.de/veranstaltungen/kalender/ereignis/108
 8-flossenschwimmen-di-19-20-uhr
DTSTART:20240507T170000Z
DTEND:20240507T180000Z
LOCATION:Campusbad (Thomas-Fincke-Straße 19\, 24943 Flensburg)
SUMMARY:Flossenschwimmen\, Di 19 - 20 Uhr
URL:https://www.uc-baltic.de/veranstaltungen/kalender/ereignis/1088-flossen
 schwimmen-di-19-20-uhr
END:VEVENT
END:VCALENDAR
