BEGIN:VCALENDAR
VERSION:2.0
PRODID:-//https://www.uc-baltic.de///NONSGML kigkonsult.se iCalcreator 2.10.15//
METHOD:PUBLISH
BEGIN:VEVENT
UID:20260420T071358CEST-3039121T8G@https://www.uc-baltic.de/
DTSTAMP:20260420T051358Z
DESCRIPTION:Leute! Leute! Es ist wieder so weit. Euer Event-Team meldet sic
 h zurück aus der Winterpause mit dem inzwischen allseits beliebten Osterta
 uchen. Diesmal geht es ab in die Osterhasentauchschule und es erwarten euc
 h natürlich Spiel\, Spaß und Spannung. Für alle fleißigen Ostertaucher gib
 t es vielleicht auch ein Zeugnis mit Belohnung. Aber ACHTUNG! Es soll in d
 er Förde neuerdings eierstehlende Schweinswale geben. Und nach dem Schulta
 g wird natürlich noch angegrillt. Der Schultag beginnt pünktlich am 10.Mai
  um 14 Uhr! Teilnehmen kann nur wer sich bis zum 3.Mai über die Website an
 meldet. Alle Brevets sind willkommen. Buddyteams werden vor Ort zusammenge
 stellt.Euer Event-Team https://www.uc-baltic.de/veranstaltungen/kalender/e
 reignis/1409-ostertauchen
DTSTART;VALUE=DATE:20250510
LOCATION:Unterwasserclub Baltic e.V.  (Fahrensodde 20\, 24944 Flensburg)
SUMMARY:Ostertauchen 
URL:https://www.uc-baltic.de/veranstaltungen/kalender/ereignis/1409-osterta
 uchen
END:VEVENT
BEGIN:VEVENT
UID:20260420T071358CEST-3045bg2l7h@https://www.uc-baltic.de/
DTSTAMP:20260420T051358Z
DESCRIPTION: https://www.uc-baltic.de/veranstaltungen/kalender/ereignis/144
 6-flossenschwimmen-di-19-00-20-00-uhr
DTSTART:20250506T170000Z
DTEND:20250506T180000Z
LOCATION:Campusbad (Thomas-Fincke-Straße 19\, 24943 Flensburg)
SUMMARY:Flossenschwimmen\, Di 19:00 -20:00 Uhr
URL:https://www.uc-baltic.de/veranstaltungen/kalender/ereignis/1446-flossen
 schwimmen-di-19-00-20-00-uhr
END:VEVENT
BEGIN:VEVENT
UID:20260420T071358CEST-3047flgUF7@https://www.uc-baltic.de/
DTSTAMP:20260420T051358Z
DESCRIPTION: https://www.uc-baltic.de/veranstaltungen/kalender/ereignis/146
 0-flossenschwimmen-do-16-00-17-00-uhr
DTSTART:20250508T140000Z
DTEND:20250508T150000Z
LOCATION:Campusbad (Thomas-Fincke-Straße 19\, 24943 Flensburg)
SUMMARY:Flossenschwimmen\, Do 16:00 - 17:00 Uhr
URL:https://www.uc-baltic.de/veranstaltungen/kalender/ereignis/1460-flossen
 schwimmen-do-16-00-17-00-uhr
END:VEVENT
BEGIN:VEVENT
UID:20260420T071358CEST-3050REWuBZ@https://www.uc-baltic.de/
DTSTAMP:20260420T051358Z
DESCRIPTION: https://www.uc-baltic.de/veranstaltungen/kalender/ereignis/147
 2-flossenschwimmen-fr-20-00-21-00-uhr
DTSTART:20250509T180000Z
DTEND:20250509T190000Z
LOCATION:Campusbad (Thomas-Fincke-Straße 19\, 24943 Flensburg)
SUMMARY:Flossenschwimmen\, Fr 20:00 - 21:00 Uhr
URL:https://www.uc-baltic.de/veranstaltungen/kalender/ereignis/1472-flossen
 schwimmen-fr-20-00-21-00-uhr
END:VEVENT
BEGIN:VEVENT
UID:20260420T071358CEST-3052Nkzgm3@https://www.uc-baltic.de/
DTSTAMP:20260420T051358Z
DESCRIPTION: https://www.uc-baltic.de/veranstaltungen/kalender/ereignis/148
 5-flossenschwimmen-mo-19-00-20-00-uhr
DTSTART:20250505T170000Z
DTEND:20250505T180000Z
LOCATION:Campusbad (Thomas-Fincke-Straße 19\, 24943 Flensburg)
SUMMARY:Flossenschwimmen\, Mo 19:00 - 20:00 Uhr
URL:https://www.uc-baltic.de/veranstaltungen/kalender/ereignis/1485-flossen
 schwimmen-mo-19-00-20-00-uhr
END:VEVENT
BEGIN:VEVENT
UID:20260420T071358CEST-30550OS1a1@https://www.uc-baltic.de/
DTSTAMP:20260420T051358Z
DESCRIPTION: https://www.uc-baltic.de/veranstaltungen/kalender/ereignis/149
 7-flossenschwimmen-mo-20-00-21-00
DTSTART:20250505T180000Z
DTEND:20250505T190000Z
LOCATION:Campusbad (Thomas-Fincke-Straße 19\, 24943 Flensburg)
SUMMARY:Flossenschwimmen\, Mo 20:00 - 21:00
URL:https://www.uc-baltic.de/veranstaltungen/kalender/ereignis/1497-flossen
 schwimmen-mo-20-00-21-00
END:VEVENT
BEGIN:VEVENT
UID:20260420T071358CEST-3058NB9f4d@https://www.uc-baltic.de/
DTSTAMP:20260420T051358Z
DESCRIPTION: https://www.uc-baltic.de/veranstaltungen/kalender/ereignis/150
 9-uw-rugby-mo-20-00-21-00-uhr
DTSTART:20250505T180000Z
DTEND:20250505T190000Z
LOCATION:Campusbad (Thomas-Fincke-Straße 19\, 24943 Flensburg)
SUMMARY:UW-Rugby\, Mo 20:00 - 21:00 Uhr
URL:https://www.uc-baltic.de/veranstaltungen/kalender/ereignis/1509-uw-rugb
 y-mo-20-00-21-00-uhr
END:VEVENT
END:VCALENDAR
