BEGIN:VCALENDAR
VERSION:2.0
PRODID:-//https://www.uc-baltic.de///NONSGML kigkonsult.se iCalcreator 2.10.15//
METHOD:PUBLISH
BEGIN:VEVENT
UID:20260424T025723CEST-8125SuZ16L@https://www.uc-baltic.de/
DTSTAMP:20260424T005723Z
DESCRIPTION: https://www.uc-baltic.de/veranstaltungen/kalender/ereignis/442
 -clubabend
DTSTART:20230505T180000Z
DTEND:20230505T210000Z
LOCATION:Clubheim UC Baltic ()
SUMMARY:Clubabend
URL:https://www.uc-baltic.de/veranstaltungen/kalender/ereignis/442-clubaben
 d
END:VEVENT
END:VCALENDAR
