BEGIN:VCALENDAR
VERSION:2.0
PRODID:-//https://www.uc-baltic.de///NONSGML kigkonsult.se iCalcreator 2.10.15//
METHOD:PUBLISH
BEGIN:VEVENT
UID:20260423T053906CEST-85698RbEfA@https://www.uc-baltic.de/
DTSTAMP:20260423T033906Z
DESCRIPTION: https://www.uc-baltic.de/veranstaltungen/kalender/ereignis/100
 0-clubabend
DTSTART:20240503T170000Z
DTEND:20240503T215900Z
LOCATION:Clubheim UC Baltic ()
SUMMARY:Clubabend
URL:https://www.uc-baltic.de/veranstaltungen/kalender/ereignis/1000-clubabe
 nd
END:VEVENT
BEGIN:VEVENT
UID:20260423T053906CEST-8572CPwL9m@https://www.uc-baltic.de/
DTSTAMP:20260423T033906Z
DESCRIPTION: https://www.uc-baltic.de/veranstaltungen/kalender/ereignis/103
 9-flossenschwimmen-mo-19-20-uhr
DTSTART:20240429T170000Z
DTEND:20240429T180000Z
LOCATION:Campusbad (Thomas-Fincke-Straße 19\, 24943 Flensburg)
SUMMARY:Flossenschwimmen\, Mo 19  - 20 Uhr
URL:https://www.uc-baltic.de/veranstaltungen/kalender/ereignis/1039-flossen
 schwimmen-mo-19-20-uhr
END:VEVENT
BEGIN:VEVENT
UID:20260423T053906CEST-8575DghSb7@https://www.uc-baltic.de/
DTSTAMP:20260423T033906Z
DESCRIPTION: https://www.uc-baltic.de/veranstaltungen/kalender/ereignis/105
 1-flossenschwimmen-mo-20-21-uhr
DTSTART:20240429T180000Z
DTEND:20240429T190000Z
LOCATION:Campusbad (Thomas-Fincke-Straße 19\, 24943 Flensburg)
SUMMARY:Flossenschwimmen\, Mo 20 - 21 Uhr
URL:https://www.uc-baltic.de/veranstaltungen/kalender/ereignis/1051-flossen
 schwimmen-mo-20-21-uhr
END:VEVENT
BEGIN:VEVENT
UID:20260423T053906CEST-8576M0ccZu@https://www.uc-baltic.de/
DTSTAMP:20260423T033906Z
DESCRIPTION: https://www.uc-baltic.de/veranstaltungen/kalender/ereignis/106
 3-uw-rugby-mo-20-21-uhr
DTSTART:20240429T180000Z
DTEND:20240429T190000Z
LOCATION:Campusbad (Thomas-Fincke-Straße 19\, 24943 Flensburg)
SUMMARY:UW-Rugby\, Mo 20 - 21 Uhr
URL:https://www.uc-baltic.de/veranstaltungen/kalender/ereignis/1063-uw-rugb
 y-mo-20-21-uhr
END:VEVENT
BEGIN:VEVENT
UID:20260423T053906CEST-8579zVDOcz@https://www.uc-baltic.de/
DTSTAMP:20260423T033906Z
DESCRIPTION: https://www.uc-baltic.de/veranstaltungen/kalender/ereignis/107
 6-flossenschwimmen-do-16-17-uhr
DTSTART:20240502T140000Z
DTEND:20240502T150000Z
LOCATION:Campusbad (Thomas-Fincke-Straße 19\, 24943 Flensburg)
SUMMARY:Flossenschwimmen\, Do 16 - 17 Uhr
URL:https://www.uc-baltic.de/veranstaltungen/kalender/ereignis/1076-flossen
 schwimmen-do-16-17-uhr
END:VEVENT
BEGIN:VEVENT
UID:20260423T053906CEST-8582UgOKma@https://www.uc-baltic.de/
DTSTAMP:20260423T033906Z
DESCRIPTION: https://www.uc-baltic.de/veranstaltungen/kalender/ereignis/108
 7-flossenschwimmen-di-19-20-uhr
DTSTART:20240430T170000Z
DTEND:20240430T180000Z
LOCATION:Campusbad (Thomas-Fincke-Straße 19\, 24943 Flensburg)
SUMMARY:Flossenschwimmen\, Di 19 - 20 Uhr
URL:https://www.uc-baltic.de/veranstaltungen/kalender/ereignis/1087-flossen
 schwimmen-di-19-20-uhr
END:VEVENT
END:VCALENDAR
