BEGIN:VCALENDAR
VERSION:2.0
PRODID:-//https://www.uc-baltic.de///NONSGML kigkonsult.se iCalcreator 2.10.15//
METHOD:PUBLISH
BEGIN:VEVENT
UID:20260420T071358CEST-7892DDG8uw@https://www.uc-baltic.de/
DTSTAMP:20260420T051358Z
DESCRIPTION: https://www.uc-baltic.de/veranstaltungen/kalender/ereignis/129
 9-clubabend
DTSTART:20250502T170000Z
DTEND:20250502T215900Z
LOCATION:Unterwasserclub Baltic e.V.  (Fahrensodde 20\, 24944 Flensburg)
SUMMARY:Clubabend
URL:https://www.uc-baltic.de/veranstaltungen/kalender/ereignis/1299-clubabe
 nd
END:VEVENT
BEGIN:VEVENT
UID:20260420T071358CEST-78968ICi8w@https://www.uc-baltic.de/
DTSTAMP:20260420T051358Z
DESCRIPTION: https://www.uc-baltic.de/veranstaltungen/kalender/ereignis/144
 5-flossenschwimmen-di-19-00-20-00-uhr
DTSTART:20250429T170000Z
DTEND:20250429T180000Z
LOCATION:Campusbad (Thomas-Fincke-Straße 19\, 24943 Flensburg)
SUMMARY:Flossenschwimmen\, Di 19:00 -20:00 Uhr
URL:https://www.uc-baltic.de/veranstaltungen/kalender/ereignis/1445-flossen
 schwimmen-di-19-00-20-00-uhr
END:VEVENT
BEGIN:VEVENT
UID:20260420T071358CEST-78981Z6WMf@https://www.uc-baltic.de/
DTSTAMP:20260420T051358Z
DESCRIPTION: https://www.uc-baltic.de/veranstaltungen/kalender/ereignis/147
 1-flossenschwimmen-fr-20-00-21-00-uhr
DTSTART:20250502T180000Z
DTEND:20250502T190000Z
LOCATION:Campusbad (Thomas-Fincke-Straße 19\, 24943 Flensburg)
SUMMARY:Flossenschwimmen\, Fr 20:00 - 21:00 Uhr
URL:https://www.uc-baltic.de/veranstaltungen/kalender/ereignis/1471-flossen
 schwimmen-fr-20-00-21-00-uhr
END:VEVENT
BEGIN:VEVENT
UID:20260420T071358CEST-7900Ugt4LC@https://www.uc-baltic.de/
DTSTAMP:20260420T051358Z
DESCRIPTION: https://www.uc-baltic.de/veranstaltungen/kalender/ereignis/148
 4-flossenschwimmen-mo-19-00-20-00-uhr
DTSTART:20250428T170000Z
DTEND:20250428T180000Z
LOCATION:Campusbad (Thomas-Fincke-Straße 19\, 24943 Flensburg)
SUMMARY:Flossenschwimmen\, Mo 19:00 - 20:00 Uhr
URL:https://www.uc-baltic.de/veranstaltungen/kalender/ereignis/1484-flossen
 schwimmen-mo-19-00-20-00-uhr
END:VEVENT
BEGIN:VEVENT
UID:20260420T071358CEST-7901burGfV@https://www.uc-baltic.de/
DTSTAMP:20260420T051358Z
DESCRIPTION: https://www.uc-baltic.de/veranstaltungen/kalender/ereignis/149
 6-flossenschwimmen-mo-20-00-21-00
DTSTART:20250428T180000Z
DTEND:20250428T190000Z
LOCATION:Campusbad (Thomas-Fincke-Straße 19\, 24943 Flensburg)
SUMMARY:Flossenschwimmen\, Mo 20:00 - 21:00
URL:https://www.uc-baltic.de/veranstaltungen/kalender/ereignis/1496-flossen
 schwimmen-mo-20-00-21-00
END:VEVENT
BEGIN:VEVENT
UID:20260420T071358CEST-7903zHaI2K@https://www.uc-baltic.de/
DTSTAMP:20260420T051358Z
DESCRIPTION: https://www.uc-baltic.de/veranstaltungen/kalender/ereignis/150
 8-uw-rugby-mo-20-00-21-00-uhr
DTSTART:20250428T180000Z
DTEND:20250428T190000Z
LOCATION:Campusbad (Thomas-Fincke-Straße 19\, 24943 Flensburg)
SUMMARY:UW-Rugby\, Mo 20:00 - 21:00 Uhr
URL:https://www.uc-baltic.de/veranstaltungen/kalender/ereignis/1508-uw-rugb
 y-mo-20-00-21-00-uhr
END:VEVENT
END:VCALENDAR
