BEGIN:VCALENDAR
VERSION:2.0
PRODID:-//https://www.uc-baltic.de///NONSGML kigkonsult.se iCalcreator 2.10.15//
METHOD:PUBLISH
BEGIN:VEVENT
UID:20260423T073524CEST-07929K9A33@https://www.uc-baltic.de/
DTSTAMP:20260423T053524Z
DESCRIPTION: https://www.uc-baltic.de/veranstaltungen/kalender/ereignis/103
 8-flossenschwimmen-mo-19-20-uhr
DTSTART:20240422T170000Z
DTEND:20240422T180000Z
LOCATION:Campusbad (Thomas-Fincke-Straße 19\, 24943 Flensburg)
SUMMARY:Flossenschwimmen\, Mo 19  - 20 Uhr
URL:https://www.uc-baltic.de/veranstaltungen/kalender/ereignis/1038-flossen
 schwimmen-mo-19-20-uhr
END:VEVENT
BEGIN:VEVENT
UID:20260423T073524CEST-0796gF7d7b@https://www.uc-baltic.de/
DTSTAMP:20260423T053524Z
DESCRIPTION: https://www.uc-baltic.de/veranstaltungen/kalender/ereignis/105
 0-flossenschwimmen-mo-20-21-uhr
DTSTART:20240422T180000Z
DTEND:20240422T190000Z
LOCATION:Campusbad (Thomas-Fincke-Straße 19\, 24943 Flensburg)
SUMMARY:Flossenschwimmen\, Mo 20 - 21 Uhr
URL:https://www.uc-baltic.de/veranstaltungen/kalender/ereignis/1050-flossen
 schwimmen-mo-20-21-uhr
END:VEVENT
BEGIN:VEVENT
UID:20260423T073524CEST-07987vaVRh@https://www.uc-baltic.de/
DTSTAMP:20260423T053524Z
DESCRIPTION: https://www.uc-baltic.de/veranstaltungen/kalender/ereignis/106
 2-uw-rugby-mo-20-21-uhr
DTSTART:20240422T180000Z
DTEND:20240422T190000Z
LOCATION:Campusbad (Thomas-Fincke-Straße 19\, 24943 Flensburg)
SUMMARY:UW-Rugby\, Mo 20 - 21 Uhr
URL:https://www.uc-baltic.de/veranstaltungen/kalender/ereignis/1062-uw-rugb
 y-mo-20-21-uhr
END:VEVENT
BEGIN:VEVENT
UID:20260423T073524CEST-08008ICaRL@https://www.uc-baltic.de/
DTSTAMP:20260423T053524Z
DESCRIPTION: https://www.uc-baltic.de/veranstaltungen/kalender/ereignis/107
 4-flossenschwimmen-di-19-20-uhr
DTSTART:20240423T170000Z
DTEND:20240423T180000Z
LOCATION:Campusbad (Thomas-Fincke-Straße 19\, 24943 Flensburg)
SUMMARY:Flossenschwimmen\, Di 19 - 20 Uhr
URL:https://www.uc-baltic.de/veranstaltungen/kalender/ereignis/1074-flossen
 schwimmen-di-19-20-uhr
END:VEVENT
BEGIN:VEVENT
UID:20260423T073524CEST-0802njn285@https://www.uc-baltic.de/
DTSTAMP:20260423T053524Z
DESCRIPTION: https://www.uc-baltic.de/veranstaltungen/kalender/ereignis/107
 5-flossenschwimmen-do-16-17-uhr
DTSTART:20240425T140000Z
DTEND:20240425T150000Z
LOCATION:Campusbad (Thomas-Fincke-Straße 19\, 24943 Flensburg)
SUMMARY:Flossenschwimmen\, Do 16 - 17 Uhr
URL:https://www.uc-baltic.de/veranstaltungen/kalender/ereignis/1075-flossen
 schwimmen-do-16-17-uhr
END:VEVENT
END:VCALENDAR
