BEGIN:VCALENDAR
VERSION:2.0
PRODID:-//https://www.uc-baltic.de///NONSGML kigkonsult.se iCalcreator 2.10.15//
METHOD:PUBLISH
BEGIN:VEVENT
UID:20260424T043506CEST-3219s7IF9V@https://www.uc-baltic.de/
DTSTAMP:20260424T023506Z
DESCRIPTION: https://www.uc-baltic.de/veranstaltungen/kalender/ereignis/443
 -clubabend
DTSTART:20230421T180000Z
DTEND:20230421T210000Z
LOCATION:Clubheim UC Baltic ()
SUMMARY:Clubabend
URL:https://www.uc-baltic.de/veranstaltungen/kalender/ereignis/443-clubaben
 d
END:VEVENT
END:VCALENDAR
