BEGIN:VCALENDAR
VERSION:2.0
PRODID:-//https://www.uc-baltic.de///NONSGML kigkonsult.se iCalcreator 2.10.15//
METHOD:PUBLISH
BEGIN:VEVENT
UID:20260423T074515CEST-4521hUVkCX@https://www.uc-baltic.de/
DTSTAMP:20260423T054515Z
DESCRIPTION: https://www.uc-baltic.de/veranstaltungen/kalender/ereignis/988
 -flossenschwimmen-mo-19-20-uhr-bahn-6-8-tiefer-bereich
DTSTART:20240415T170000Z
DTEND:20240415T180000Z
LOCATION:Campusbad (Thomas-Fincke-Straße 19\, 24943 Flensburg)
SUMMARY:Flossenschwimmen\, Mo\, 19 - 20 Uhr\, Bahn 6-8\, tiefer Bereich
URL:https://www.uc-baltic.de/veranstaltungen/kalender/ereignis/988-flossens
 chwimmen-mo-19-20-uhr-bahn-6-8-tiefer-bereich
END:VEVENT
BEGIN:VEVENT
UID:20260423T074515CEST-4525KFrggV@https://www.uc-baltic.de/
DTSTAMP:20260423T054515Z
DESCRIPTION: https://www.uc-baltic.de/veranstaltungen/kalender/ereignis/990
 -flossenschwimmen-mo-20-21-uhr-bahn-6-tiefer-bereich
DTSTART:20240415T180000Z
DTEND:20240415T190000Z
LOCATION:Campusbad (Thomas-Fincke-Straße 19\, 24943 Flensburg)
SUMMARY:Flossenschwimmen\, Mo 20 - 21 Uhr\, Bahn 6\, tiefer Bereich
URL:https://www.uc-baltic.de/veranstaltungen/kalender/ereignis/990-flossens
 chwimmen-mo-20-21-uhr-bahn-6-tiefer-bereich
END:VEVENT
BEGIN:VEVENT
UID:20260423T074515CEST-4528F3e25e@https://www.uc-baltic.de/
DTSTAMP:20260423T054515Z
DESCRIPTION: https://www.uc-baltic.de/veranstaltungen/kalender/ereignis/992
 -uw-rugby-mo-20-21-uhr-bahn-7-u-8-tiefer-bereich
DTSTART:20240415T180000Z
DTEND:20240415T190000Z
LOCATION:Unterwasserclub Baltic e.V.  (Fahrensodde 20\, 24944 Flensburg)
SUMMARY:UW-Rugby\, Mo 20 - 21 Uhr\, Bahn 7 u. 8\, tiefer Bereich
URL:https://www.uc-baltic.de/veranstaltungen/kalender/ereignis/992-uw-rugby
 -mo-20-21-uhr-bahn-7-u-8-tiefer-bereich
END:VEVENT
BEGIN:VEVENT
UID:20260423T074515CEST-4530VF0J1V@https://www.uc-baltic.de/
DTSTAMP:20260423T054515Z
DESCRIPTION: https://www.uc-baltic.de/veranstaltungen/kalender/ereignis/995
 -flossenschwimmen-di-19-20-uhr-bahn-8-tiefer-bereich
DTSTART:20240416T170000Z
DTEND:20240416T180000Z
LOCATION:Campusbad (Thomas-Fincke-Straße 19\, 24943 Flensburg)
SUMMARY:Flossenschwimmen\, Di 19 - 20 Uhr\, Bahn 8\, tiefer Bereich
URL:https://www.uc-baltic.de/veranstaltungen/kalender/ereignis/995-flossens
 chwimmen-di-19-20-uhr-bahn-8-tiefer-bereich
END:VEVENT
BEGIN:VEVENT
UID:20260423T074515CEST-45323ffFFx@https://www.uc-baltic.de/
DTSTAMP:20260423T054515Z
DESCRIPTION: https://www.uc-baltic.de/veranstaltungen/kalender/ereignis/998
 -flossenschwimmen-do-16-17-uhr-bahn-5-flacher-bereich
DTSTART:20240418T140000Z
DTEND:20240418T150000Z
LOCATION:Campusbad (Thomas-Fincke-Straße 19\, 24943 Flensburg)
SUMMARY:Flossenschwimmen\, Do\, 16 - 17 Uhr\, Bahn 5\, flacher Bereich
URL:https://www.uc-baltic.de/veranstaltungen/kalender/ereignis/998-flossens
 chwimmen-do-16-17-uhr-bahn-5-flacher-bereich
END:VEVENT
END:VCALENDAR
