BEGIN:VCALENDAR
VERSION:2.0
PRODID:-//https://www.uc-baltic.de///NONSGML kigkonsult.se iCalcreator 2.10.15//
METHOD:PUBLISH
BEGIN:VEVENT
UID:20260423T093550CEST-7788zslp7L@https://www.uc-baltic.de/
DTSTAMP:20260423T073550Z
DESCRIPTION: https://www.uc-baltic.de/veranstaltungen/kalender/ereignis/987
 -flossenschwimmen-mo-19-20-uhr-bahn-6-8-tiefer-bereich
DTSTART:20240408T170000Z
DTEND:20240408T180000Z
LOCATION:Campusbad (Thomas-Fincke-Straße 19\, 24943 Flensburg)
SUMMARY:Flossenschwimmen\, Mo\, 19 - 20 Uhr\, Bahn 6-8\, tiefer Bereich
URL:https://www.uc-baltic.de/veranstaltungen/kalender/ereignis/987-flossens
 chwimmen-mo-19-20-uhr-bahn-6-8-tiefer-bereich
END:VEVENT
BEGIN:VEVENT
UID:20260423T093550CEST-7792FIzuGT@https://www.uc-baltic.de/
DTSTAMP:20260423T073550Z
DESCRIPTION: https://www.uc-baltic.de/veranstaltungen/kalender/ereignis/989
 -flossenschwimmen-mo-20-21-uhr-bahn-6-tiefer-bereich
DTSTART:20240408T180000Z
DTEND:20240408T190000Z
LOCATION:Campusbad (Thomas-Fincke-Straße 19\, 24943 Flensburg)
SUMMARY:Flossenschwimmen\, Mo 20 - 21 Uhr\, Bahn 6\, tiefer Bereich
URL:https://www.uc-baltic.de/veranstaltungen/kalender/ereignis/989-flossens
 chwimmen-mo-20-21-uhr-bahn-6-tiefer-bereich
END:VEVENT
BEGIN:VEVENT
UID:20260423T093550CEST-7795Lnpd5u@https://www.uc-baltic.de/
DTSTAMP:20260423T073550Z
DESCRIPTION: https://www.uc-baltic.de/veranstaltungen/kalender/ereignis/991
 -uw-rugby-mo-20-21-uhr-bahn-7-u-8-tiefer-bereich
DTSTART:20240408T180000Z
DTEND:20240408T190000Z
LOCATION:Unterwasserclub Baltic e.V.  (Fahrensodde 20\, 24944 Flensburg)
SUMMARY:UW-Rugby\, Mo 20 - 21 Uhr\, Bahn 7 u. 8\, tiefer Bereich
URL:https://www.uc-baltic.de/veranstaltungen/kalender/ereignis/991-uw-rugby
 -mo-20-21-uhr-bahn-7-u-8-tiefer-bereich
END:VEVENT
BEGIN:VEVENT
UID:20260423T093550CEST-7797B00lP4@https://www.uc-baltic.de/
DTSTAMP:20260423T073550Z
DESCRIPTION: https://www.uc-baltic.de/veranstaltungen/kalender/ereignis/994
 -flossenschwimmen-di-19-20-uhr-bahn-8-tiefer-bereich
DTSTART:20240409T170000Z
DTEND:20240409T180000Z
LOCATION:Campusbad (Thomas-Fincke-Straße 19\, 24943 Flensburg)
SUMMARY:Flossenschwimmen\, Di 19 - 20 Uhr\, Bahn 8\, tiefer Bereich
URL:https://www.uc-baltic.de/veranstaltungen/kalender/ereignis/994-flossens
 chwimmen-di-19-20-uhr-bahn-8-tiefer-bereich
END:VEVENT
BEGIN:VEVENT
UID:20260423T093550CEST-7799G5vVKS@https://www.uc-baltic.de/
DTSTAMP:20260423T073550Z
DESCRIPTION: https://www.uc-baltic.de/veranstaltungen/kalender/ereignis/997
 -flossenschwimmen-do-16-17-uhr-bahn-5-flacher-bereich
DTSTART:20240411T140000Z
DTEND:20240411T150000Z
LOCATION:Campusbad (Thomas-Fincke-Straße 19\, 24943 Flensburg)
SUMMARY:Flossenschwimmen\, Do\, 16 - 17 Uhr\, Bahn 5\, flacher Bereich
URL:https://www.uc-baltic.de/veranstaltungen/kalender/ereignis/997-flossens
 chwimmen-do-16-17-uhr-bahn-5-flacher-bereich
END:VEVENT
END:VCALENDAR
