BEGIN:VCALENDAR
VERSION:2.0
PRODID:-//https://www.uc-baltic.de///NONSGML kigkonsult.se iCalcreator 2.10.15//
METHOD:PUBLISH
BEGIN:VEVENT
UID:20260420T085341CEST-2645utvlwh@https://www.uc-baltic.de/
DTSTAMP:20260420T065341Z
DESCRIPTION:Treffen und Einlass: 15:45 Uhr https://www.uc-baltic.de/veranst
 altungen/kalender/ereignis/1330-flossenschwimmen-do-16-00-17-00-uhr
DTSTART:20250410T140000Z
DTEND:20250410T150000Z
LOCATION:Campusbad (Thomas-Fincke-Straße 19\, 24943 Flensburg)
SUMMARY:Flossenschwimmen\, Do 16:00 - 17:00 Uhr
URL:https://www.uc-baltic.de/veranstaltungen/kalender/ereignis/1330-flossen
 schwimmen-do-16-00-17-00-uhr
END:VEVENT
BEGIN:VEVENT
UID:20260420T085341CEST-26481B68AM@https://www.uc-baltic.de/
DTSTAMP:20260420T065341Z
DESCRIPTION:Treffen und Einlass: 18:45 Uhr https://www.uc-baltic.de/veranst
 altungen/kalender/ereignis/1356-flossenschwimmen-mo-19-00-20-00-uhr
DTSTART:20250407T170000Z
DTEND:20250407T190000Z
LOCATION:Campusbad (Thomas-Fincke-Straße 19\, 24943 Flensburg)
SUMMARY:Flossenschwimmen\, Mo 19:00 - 20:00 Uhr
URL:https://www.uc-baltic.de/veranstaltungen/kalender/ereignis/1356-flossen
 schwimmen-mo-19-00-20-00-uhr
END:VEVENT
BEGIN:VEVENT
UID:20260420T085341CEST-2650bHoZ3i@https://www.uc-baltic.de/
DTSTAMP:20260420T065341Z
DESCRIPTION:Treffen und Einlass: 19:45 Uhr https://www.uc-baltic.de/veranst
 altungen/kalender/ereignis/1369-flossenschwimmen-mo-20-00-21-00-uhr
DTSTART:20250407T180000Z
DTEND:20250407T190000Z
LOCATION:Campusbad (Thomas-Fincke-Straße 19\, 24943 Flensburg)
SUMMARY:Flossenschwimmen\, Mo 20:00 - 21:00 Uhr
URL:https://www.uc-baltic.de/veranstaltungen/kalender/ereignis/1369-flossen
 schwimmen-mo-20-00-21-00-uhr
END:VEVENT
BEGIN:VEVENT
UID:20260420T085341CEST-265282ONkA@https://www.uc-baltic.de/
DTSTAMP:20260420T065341Z
DESCRIPTION:Treffen und Einlass: 19:45 Uhr https://www.uc-baltic.de/veranst
 altungen/kalender/ereignis/1382-uw-rugby-mo-20-00-21-00-uhr
DTSTART:20250407T180000Z
DTEND:20250407T190000Z
LOCATION:Campusbad (Thomas-Fincke-Straße 19\, 24943 Flensburg)
SUMMARY:UW-Rugby\, Mo 20:00 - 21:00 Uhr
URL:https://www.uc-baltic.de/veranstaltungen/kalender/ereignis/1382-uw-rugb
 y-mo-20-00-21-00-uhr
END:VEVENT
BEGIN:VEVENT
UID:20260420T085341CEST-2654lJlC2n@https://www.uc-baltic.de/
DTSTAMP:20260420T065341Z
DESCRIPTION:Treffen und Einlass: 18:45 Uhr https://www.uc-baltic.de/veranst
 altungen/kalender/ereignis/1395-flossenschwimmen-di-19-00-20-00-uhr
DTSTART:20250408T170000Z
DTEND:20250408T180000Z
LOCATION:Campusbad (Thomas-Fincke-Straße 19\, 24943 Flensburg)
SUMMARY:Flossenschwimmen\, Di 19:00 - 20:00 Uhr
URL:https://www.uc-baltic.de/veranstaltungen/kalender/ereignis/1395-flossen
 schwimmen-di-19-00-20-00-uhr
END:VEVENT
BEGIN:VEVENT
UID:20260420T085341CEST-2655PB40fK@https://www.uc-baltic.de/
DTSTAMP:20260420T065341Z
DESCRIPTION:Im Rahmen der Tauchausbildung im UC Baltic bieten wir einen Auf
 baukurs (AK) GDL Navigation Diver / AK Orientierung an. In dem zweitägigen
  Kurs beschäftigen wir uns mit natürlichen und technischen Hilfsmitteln zu
 r Orientierung beim Tauchen. Ihr sollt in die Lage versetzt werden\, währe
 nd des Tauchganges Tauchkurs und Standort zu bestimmen und sicher zum Ausg
 angspunkt des Tauchganges zurückzufinden. Der AK Orientierung ist Vorausse
 tzung für die Brevetierung zum DTSA**.Anmeldeschluss: 15.04.2025 https://w
 ww.uc-baltic.de/veranstaltungen/kalender/ereignis/1401-gdl-navigation-dive
 r-ak-orientierung
DTSTART:20250319T153100Z
DTEND:20250415T215700Z
LOCATION:Unterwasserclub Baltic e.V.  (Fahrensodde 20\, 24944 Flensburg)
SUMMARY:GDL Navigation Diver / AK Orientierung
URL:https://www.uc-baltic.de/veranstaltungen/kalender/ereignis/1401-gdl-nav
 igation-diver-ak-orientierung
END:VEVENT
BEGIN:VEVENT
UID:20260420T085341CEST-2658b55U7g@https://www.uc-baltic.de/
DTSTAMP:20260420T065341Z
DESCRIPTION:Im Rahmen der Tauchausbildung im UC Baltic bieten wir einen Auf
 baukurs (AK) GDL Dive Group Leader / Gruppenführung an. In dem mehrtägigen
  Kurs beschäftigen wir uns mit in Theorie und Praxis mit den Grundelemente
 n der Gruppenführung und deren Zusammenwirken. Der AK Gruppenführung ist V
 oraussetzung für die Brevetierung zum DTSA**.Anmeldeschluss: 15.04.2025 ht
 tps://www.uc-baltic.de/veranstaltungen/kalender/ereignis/1402-gdl-dive-gro
 up-leader-ak-gruppenfuehrung
DTSTART:20250319T154000Z
DTEND:20250415T215700Z
LOCATION:Unterwasserclub Baltic e.V.  (Fahrensodde 20\, 24944 Flensburg)
SUMMARY:GDL Dive Group Leader / AK Gruppenführung
URL:https://www.uc-baltic.de/veranstaltungen/kalender/ereignis/1402-gdl-div
 e-group-leader-ak-gruppenfuehrung
END:VEVENT
END:VCALENDAR
