BEGIN:VCALENDAR
VERSION:2.0
PRODID:-//https://www.uc-baltic.de///NONSGML kigkonsult.se iCalcreator 2.10.15//
METHOD:PUBLISH
BEGIN:VEVENT
UID:20260423T074417CEST-0129UbUFeh@https://www.uc-baltic.de/
DTSTAMP:20260423T054417Z
DESCRIPTION:Liebe Tauchfreunde\, da wir für die letzte Schnitzeljagd so vie
 l positives Feedback bekommen haben\, haben wir uns gedacht es sollte eine
  zweite Runde geben. Und was passt da thematisch besser als Ostern.\nDaher
  laden wir euch ein\, am 06.04.23\, an unserem Hausriff Ostereier zu jagen
 . Bis dahin sollte sich die Wassertemperatur in einem Bereich befinden\, w
 elche es auch Nasstauchern ermöglicht\, teilzunehmen und sich hinterher ei
 ne warme Dusche zu gönnen. Wer aktuell keinen Buddy hat\, kann sich natürl
 ich trotzdem anmelden\, passende Buddyteams werden wir dann vor Ort zusamm
 enstellen.\nEs gibt für jeden Teilnehmer ein Ei zu finden. Meldet euch als
 o gerne zeitnah an und lasst euch überraschen \;-)\nTreffen: 10:00 Uhr\nSt
 art: 11:00 Uhr\nEindrücke vom letzten Mal   (link zu den Bildern)\nAnschli
 eßend stärken wir uns\, in geselliger Runde\, bei einer kleinen Mahlzeit o
 der auch einem Getränk.\nAnmeldeschluss ist der 01.04.2024.\nBei Fragen sp
 recht uns gern an. Wir freuen uns auf euch.\nLeif und Timo https://www.uc-
 baltic.de/veranstaltungen/kalender/ereignis/929-ostereier-suchen
DTSTART:20240406T080000Z
DTEND:20240406T140000Z
LOCATION:Unterwasserclub Baltic e.V.  (Fahrensodde 20\, 24944 Flensburg)
SUMMARY:Ostereier suchen
URL:https://www.uc-baltic.de/veranstaltungen/kalender/ereignis/929-ostereie
 r-suchen
END:VEVENT
BEGIN:VEVENT
UID:20260423T074417CEST-0135kSKjPr@https://www.uc-baltic.de/
DTSTAMP:20260423T054417Z
DESCRIPTION: https://www.uc-baltic.de/veranstaltungen/kalender/ereignis/993
 -flossenschwimmen-di-19-20-uhr-bahn-8-tiefer-bereich
DTSTART:20240402T170000Z
DTEND:20240402T180000Z
LOCATION:Campusbad (Thomas-Fincke-Straße 19\, 24943 Flensburg)
SUMMARY:Flossenschwimmen\, Di 19 - 20 Uhr\, Bahn 8\, tiefer Bereich
URL:https://www.uc-baltic.de/veranstaltungen/kalender/ereignis/993-flossens
 chwimmen-di-19-20-uhr-bahn-8-tiefer-bereich
END:VEVENT
BEGIN:VEVENT
UID:20260423T074417CEST-01386CowlG@https://www.uc-baltic.de/
DTSTAMP:20260423T054417Z
DESCRIPTION: https://www.uc-baltic.de/veranstaltungen/kalender/ereignis/996
 -flossenschwimmen-do-16-17-uhr-bahn-5-flacher-bereich
DTSTART:20240404T140000Z
DTEND:20240404T150000Z
LOCATION:Campusbad (Thomas-Fincke-Straße 19\, 24943 Flensburg)
SUMMARY:Flossenschwimmen\, Do\, 16 - 17 Uhr\, Bahn 5\, flacher Bereich
URL:https://www.uc-baltic.de/veranstaltungen/kalender/ereignis/996-flossens
 chwimmen-do-16-17-uhr-bahn-5-flacher-bereich
END:VEVENT
END:VCALENDAR
