BEGIN:VCALENDAR
VERSION:2.0
PRODID:-//https://www.uc-baltic.de///NONSGML kigkonsult.se iCalcreator 2.10.15//
METHOD:PUBLISH
BEGIN:VEVENT
UID:20260423T092918CEST-46644sjVOS@https://www.uc-baltic.de/
DTSTAMP:20260423T072918Z
DESCRIPTION: https://www.uc-baltic.de/veranstaltungen/kalender/ereignis/863
 -flossenschwimmen-mo-19-20-uhr
DTSTART:20240325T180000Z
DTEND:20240325T190000Z
LOCATION:Campusbad (Thomas-Fincke-Straße 19\, 24943 Flensburg)
SUMMARY:Flossenschwimmen\, Mo 19 - 20 Uhr
URL:https://www.uc-baltic.de/veranstaltungen/kalender/ereignis/863-flossens
 chwimmen-mo-19-20-uhr
END:VEVENT
BEGIN:VEVENT
UID:20260423T092918CEST-4667lm0Tsd@https://www.uc-baltic.de/
DTSTAMP:20260423T072918Z
DESCRIPTION: https://www.uc-baltic.de/veranstaltungen/kalender/ereignis/875
 -flossenschwimmen-mo-20-21-uhr
DTSTART:20240325T190000Z
DTEND:20240325T200000Z
LOCATION:Campusbad (Thomas-Fincke-Straße 19\, 24943 Flensburg)
SUMMARY:Flossenschwimmen\, Mo 20 - 21 Uhr
URL:https://www.uc-baltic.de/veranstaltungen/kalender/ereignis/875-flossens
 chwimmen-mo-20-21-uhr
END:VEVENT
BEGIN:VEVENT
UID:20260423T092918CEST-4669XuV0GV@https://www.uc-baltic.de/
DTSTAMP:20260423T072918Z
DESCRIPTION: https://www.uc-baltic.de/veranstaltungen/kalender/ereignis/899
 -flossenschwimmen-di-19-20-uhr
DTSTART:20240326T180000Z
DTEND:20240326T190000Z
LOCATION:Campusbad (Thomas-Fincke-Straße 19\, 24943 Flensburg)
SUMMARY:Flossenschwimmen\, Di 19 - 20 Uhr
URL:https://www.uc-baltic.de/veranstaltungen/kalender/ereignis/899-flossens
 chwimmen-di-19-20-uhr
END:VEVENT
BEGIN:VEVENT
UID:20260423T092918CEST-4670TJ08bu@https://www.uc-baltic.de/
DTSTAMP:20260423T072918Z
DESCRIPTION: https://www.uc-baltic.de/veranstaltungen/kalender/ereignis/911
 -flossenschwimmen-do-16-17-uhr
DTSTART:20240328T150000Z
DTEND:20240328T160000Z
LOCATION:Campusbad (Thomas-Fincke-Straße 19\, 24943 Flensburg)
SUMMARY:Flossenschwimmen\, Do 16 - 17 Uhr
URL:https://www.uc-baltic.de/veranstaltungen/kalender/ereignis/911-flossens
 chwimmen-do-16-17-uhr
END:VEVENT
BEGIN:VEVENT
UID:20260423T092918CEST-4672Le1KS5@https://www.uc-baltic.de/
DTSTAMP:20260423T072918Z
DESCRIPTION: https://www.uc-baltic.de/veranstaltungen/kalender/ereignis/972
 -uw-rugby-mo-20-21-uhr
DTSTART:20240325T190000Z
DTEND:20240325T200000Z
LOCATION:Campusbad (Thomas-Fincke-Straße 19\, 24943 Flensburg)
SUMMARY:UW-Rugby\, Mo 20 - 21 Uhr
URL:https://www.uc-baltic.de/veranstaltungen/kalender/ereignis/972-uw-rugby
 -mo-20-21-uhr
END:VEVENT
END:VCALENDAR
