BEGIN:VCALENDAR
VERSION:2.0
PRODID:-//https://www.uc-baltic.de///NONSGML kigkonsult.se iCalcreator 2.10.15//
METHOD:PUBLISH
BEGIN:VEVENT
UID:20260419T150714CEST-7400uDs5KD@https://www.uc-baltic.de/
DTSTAMP:20260419T130714Z
DESCRIPTION: https://www.uc-baltic.de/veranstaltungen/kalender/ereignis/171
 4-private-veranstaltung
DTSTART:20260326T160000Z
DTEND:20260326T225900Z
LOCATION:Unterwasserclub Baltic e.V.  (Fahrensodde 20\, 24944 Flensburg)
SUMMARY:Private Veranstaltung
URL:https://www.uc-baltic.de/veranstaltungen/kalender/ereignis/1714-private
 -veranstaltung
END:VEVENT
BEGIN:VEVENT
UID:20260419T150714CEST-74041KMUFn@https://www.uc-baltic.de/
DTSTAMP:20260419T130714Z
DESCRIPTION: https://www.uc-baltic.de/veranstaltungen/kalender/ereignis/173
 0-flossenschwimmen-mo-19-00-20-00-uhr
DTSTART:20260323T180000Z
DTEND:20260323T190000Z
LOCATION:Campusbad (Thomas-Fincke-Straße 19\, 24943 Flensburg)
SUMMARY:Flossenschwimmen\, Mo 19:00 - 20:00 Uhr
URL:https://www.uc-baltic.de/veranstaltungen/kalender/ereignis/1730-flossen
 schwimmen-mo-19-00-20-00-uhr
END:VEVENT
BEGIN:VEVENT
UID:20260419T150714CEST-7406O7s3bA@https://www.uc-baltic.de/
DTSTAMP:20260419T130714Z
DESCRIPTION: https://www.uc-baltic.de/veranstaltungen/kalender/ereignis/174
 2-flossenschwimmen-mo-20-00-21-00-uhr
DTSTART:20260323T190000Z
DTEND:20260323T200000Z
LOCATION:Campusbad (Thomas-Fincke-Straße 19\, 24943 Flensburg)
SUMMARY:Flossenschwimmen\, Mo 20:00 - 21:00 Uhr
URL:https://www.uc-baltic.de/veranstaltungen/kalender/ereignis/1742-flossen
 schwimmen-mo-20-00-21-00-uhr
END:VEVENT
BEGIN:VEVENT
UID:20260419T150714CEST-74085sVP0O@https://www.uc-baltic.de/
DTSTAMP:20260419T130714Z
DESCRIPTION: https://www.uc-baltic.de/veranstaltungen/kalender/ereignis/175
 5-uw-rugby-mo-20-00-21-00-uhr
DTSTART:20260323T190000Z
DTEND:20260323T200000Z
LOCATION:Campusbad (Thomas-Fincke-Straße 19\, 24943 Flensburg)
SUMMARY:UW-Rugby\, Mo 20:00 -21:00 Uhr
URL:https://www.uc-baltic.de/veranstaltungen/kalender/ereignis/1755-uw-rugb
 y-mo-20-00-21-00-uhr
END:VEVENT
BEGIN:VEVENT
UID:20260419T150714CEST-7409UCdF4D@https://www.uc-baltic.de/
DTSTAMP:20260419T130714Z
DESCRIPTION: https://www.uc-baltic.de/veranstaltungen/kalender/ereignis/176
 7-flossenschwimmen-di-19-00-20-00-uhr
DTSTART:20260324T180000Z
DTEND:20260324T190000Z
LOCATION:Campusbad (Thomas-Fincke-Straße 19\, 24943 Flensburg)
SUMMARY:Flossenschwimmen\, Di 19:00 - 20:00 Uhr
URL:https://www.uc-baltic.de/veranstaltungen/kalender/ereignis/1767-flossen
 schwimmen-di-19-00-20-00-uhr
END:VEVENT
BEGIN:VEVENT
UID:20260419T150714CEST-7411FDNDxV@https://www.uc-baltic.de/
DTSTAMP:20260419T130714Z
DESCRIPTION: https://www.uc-baltic.de/veranstaltungen/kalender/ereignis/181
 7-do-flossenschwimmen-bahn-8-tiefer-bereich
DTSTART:20260326T150000Z
DTEND:20260326T160000Z
LOCATION:Campusbad (Thomas-Fincke-Straße 19\, 24943 Flensburg)
SUMMARY:Do\, Flossenschwimmen\, Bahn 8\, tiefer Bereich
URL:https://www.uc-baltic.de/veranstaltungen/kalender/ereignis/1817-do-flos
 senschwimmen-bahn-8-tiefer-bereich
END:VEVENT
END:VCALENDAR
