BEGIN:VCALENDAR
VERSION:2.0
PRODID:-//https://www.uc-baltic.de///NONSGML kigkonsult.se iCalcreator 2.10.15//
METHOD:PUBLISH
BEGIN:VEVENT
UID:20260424T061804CEST-3648Vm4C8n@https://www.uc-baltic.de/
DTSTAMP:20260424T041804Z
DESCRIPTION: https://www.uc-baltic.de/veranstaltungen/kalender/ereignis/41-
 clubabend
DTSTART:20230324T190000Z
DTEND:20230324T220000Z
LOCATION:Clubheim UC Baltic ()
SUMMARY:Clubabend
URL:https://www.uc-baltic.de/veranstaltungen/kalender/ereignis/41-clubabend
END:VEVENT
END:VCALENDAR
