BEGIN:VCALENDAR
VERSION:2.0
PRODID:-//https://www.uc-baltic.de///NONSGML kigkonsult.se iCalcreator 2.10.15//
METHOD:PUBLISH
BEGIN:VEVENT
UID:20260423T092918CEST-2927jtZGiV@https://www.uc-baltic.de/
DTSTAMP:20260423T072918Z
DESCRIPTION: https://www.uc-baltic.de/veranstaltungen/kalender/ereignis/862
 -flossenschwimmen-mo-19-20-uhr
DTSTART:20240318T180000Z
DTEND:20240318T190000Z
LOCATION:Campusbad (Thomas-Fincke-Straße 19\, 24943 Flensburg)
SUMMARY:Flossenschwimmen\, Mo 19 - 20 Uhr
URL:https://www.uc-baltic.de/veranstaltungen/kalender/ereignis/862-flossens
 chwimmen-mo-19-20-uhr
END:VEVENT
BEGIN:VEVENT
UID:20260423T092918CEST-2930Z9kOVD@https://www.uc-baltic.de/
DTSTAMP:20260423T072918Z
DESCRIPTION: https://www.uc-baltic.de/veranstaltungen/kalender/ereignis/874
 -flossenschwimmen-mo-20-21-uhr
DTSTART:20240318T190000Z
DTEND:20240318T200000Z
LOCATION:Campusbad (Thomas-Fincke-Straße 19\, 24943 Flensburg)
SUMMARY:Flossenschwimmen\, Mo 20 - 21 Uhr
URL:https://www.uc-baltic.de/veranstaltungen/kalender/ereignis/874-flossens
 chwimmen-mo-20-21-uhr
END:VEVENT
BEGIN:VEVENT
UID:20260423T092918CEST-2933uu83Tj@https://www.uc-baltic.de/
DTSTAMP:20260423T072918Z
DESCRIPTION: https://www.uc-baltic.de/veranstaltungen/kalender/ereignis/898
 -flossenschwimmen-di-19-20-uhr
DTSTART:20240319T180000Z
DTEND:20240319T190000Z
LOCATION:Campusbad (Thomas-Fincke-Straße 19\, 24943 Flensburg)
SUMMARY:Flossenschwimmen\, Di 19 - 20 Uhr
URL:https://www.uc-baltic.de/veranstaltungen/kalender/ereignis/898-flossens
 chwimmen-di-19-20-uhr
END:VEVENT
BEGIN:VEVENT
UID:20260423T092918CEST-2936buUnKG@https://www.uc-baltic.de/
DTSTAMP:20260423T072918Z
DESCRIPTION: https://www.uc-baltic.de/veranstaltungen/kalender/ereignis/910
 -flossenschwimmen-do-16-17-uhr
DTSTART:20240321T150000Z
DTEND:20240321T160000Z
LOCATION:Campusbad (Thomas-Fincke-Straße 19\, 24943 Flensburg)
SUMMARY:Flossenschwimmen\, Do 16 - 17 Uhr
URL:https://www.uc-baltic.de/veranstaltungen/kalender/ereignis/910-flossens
 chwimmen-do-16-17-uhr
END:VEVENT
BEGIN:VEVENT
UID:20260423T092918CEST-2938IKecNC@https://www.uc-baltic.de/
DTSTAMP:20260423T072918Z
DESCRIPTION:Bei Schnuppertauchen bitte gegenseitig Rücksicht nehmen. Die Ta
 ucher übernehmen keine Beckenaufsicht!! Eine Bitte des Campusbades\, dass 
 bitte einer die Schlüssel für die gesamte Gruppe an der Kasse abholen. htt
 ps://www.uc-baltic.de/veranstaltungen/kalender/ereignis/938-flossenschwimm
 en-fr-20-21-uhr-bahn-5
DTSTART:20240322T190000Z
DTEND:20240322T200000Z
LOCATION:Campusbad (Thomas-Fincke-Straße 19\, 24943 Flensburg)
SUMMARY:Flossenschwimmen\, Fr 20 -21 Uhr\, Bahn 5
URL:https://www.uc-baltic.de/veranstaltungen/kalender/ereignis/938-flossens
 chwimmen-fr-20-21-uhr-bahn-5
END:VEVENT
BEGIN:VEVENT
UID:20260423T092918CEST-2942ZFALRX@https://www.uc-baltic.de/
DTSTAMP:20260423T072918Z
DESCRIPTION: https://www.uc-baltic.de/veranstaltungen/kalender/ereignis/971
 -uw-rugby-mo-20-21-uhr
DTSTART:20240318T190000Z
DTEND:20240318T200000Z
LOCATION:Campusbad (Thomas-Fincke-Straße 19\, 24943 Flensburg)
SUMMARY:UW-Rugby\, Mo 20 - 21 Uhr
URL:https://www.uc-baltic.de/veranstaltungen/kalender/ereignis/971-uw-rugby
 -mo-20-21-uhr
END:VEVENT
END:VCALENDAR
