BEGIN:VCALENDAR
VERSION:2.0
PRODID:-//https://www.uc-baltic.de///NONSGML kigkonsult.se iCalcreator 2.10.15//
METHOD:PUBLISH
BEGIN:VEVENT
UID:20260419T150715CEST-1920tV2Ff7@https://www.uc-baltic.de/
DTSTAMP:20260419T130715Z
DESCRIPTION: https://www.uc-baltic.de/veranstaltungen/kalender/ereignis/172
 9-flossenschwimmen-mo-19-00-20-00-uhr
DTSTART:20260316T180000Z
DTEND:20260316T190000Z
LOCATION:Campusbad (Thomas-Fincke-Straße 19\, 24943 Flensburg)
SUMMARY:Flossenschwimmen\, Mo 19:00 - 20:00 Uhr
URL:https://www.uc-baltic.de/veranstaltungen/kalender/ereignis/1729-flossen
 schwimmen-mo-19-00-20-00-uhr
END:VEVENT
BEGIN:VEVENT
UID:20260419T150715CEST-1923JL8GVk@https://www.uc-baltic.de/
DTSTAMP:20260419T130715Z
DESCRIPTION: https://www.uc-baltic.de/veranstaltungen/kalender/ereignis/174
 1-flossenschwimmen-mo-20-00-21-00-uhr
DTSTART:20260316T190000Z
DTEND:20260316T200000Z
LOCATION:Campusbad (Thomas-Fincke-Straße 19\, 24943 Flensburg)
SUMMARY:Flossenschwimmen\, Mo 20:00 - 21:00 Uhr
URL:https://www.uc-baltic.de/veranstaltungen/kalender/ereignis/1741-flossen
 schwimmen-mo-20-00-21-00-uhr
END:VEVENT
BEGIN:VEVENT
UID:20260419T150715CEST-1925dLZvr3@https://www.uc-baltic.de/
DTSTAMP:20260419T130715Z
DESCRIPTION: https://www.uc-baltic.de/veranstaltungen/kalender/ereignis/175
 4-uw-rugby-mo-20-00-21-00-uhr
DTSTART:20260316T190000Z
DTEND:20260316T200000Z
LOCATION:Campusbad (Thomas-Fincke-Straße 19\, 24943 Flensburg)
SUMMARY:UW-Rugby\, Mo 20:00 -21:00 Uhr
URL:https://www.uc-baltic.de/veranstaltungen/kalender/ereignis/1754-uw-rugb
 y-mo-20-00-21-00-uhr
END:VEVENT
BEGIN:VEVENT
UID:20260419T150715CEST-1926aJ8Ggb@https://www.uc-baltic.de/
DTSTAMP:20260419T130715Z
DESCRIPTION: https://www.uc-baltic.de/veranstaltungen/kalender/ereignis/176
 6-flossenschwimmen-di-19-00-20-00-uhr
DTSTART:20260317T180000Z
DTEND:20260317T190000Z
LOCATION:Campusbad (Thomas-Fincke-Straße 19\, 24943 Flensburg)
SUMMARY:Flossenschwimmen\, Di 19:00 - 20:00 Uhr
URL:https://www.uc-baltic.de/veranstaltungen/kalender/ereignis/1766-flossen
 schwimmen-di-19-00-20-00-uhr
END:VEVENT
BEGIN:VEVENT
UID:20260419T150715CEST-1928TuDVSH@https://www.uc-baltic.de/
DTSTAMP:20260419T130715Z
DESCRIPTION: https://www.uc-baltic.de/veranstaltungen/kalender/ereignis/177
 8-flossenschwimmen-do-16-00-17-00-uhr
DTSTART:20260319T150000Z
DTEND:20260319T160000Z
LOCATION:Campusbad (Thomas-Fincke-Straße 19\, 24943 Flensburg)
SUMMARY:Flossenschwimmen\, Do 16:00 - 17:00 Uhr
URL:https://www.uc-baltic.de/veranstaltungen/kalender/ereignis/1778-flossen
 schwimmen-do-16-00-17-00-uhr
END:VEVENT
BEGIN:VEVENT
UID:20260419T150715CEST-1929UHA9XD@https://www.uc-baltic.de/
DTSTAMP:20260419T130715Z
DESCRIPTION: https://www.uc-baltic.de/veranstaltungen/kalender/ereignis/178
 9-flossenschwimmen-fr-20-00-21-00-uhr
DTSTART:20260320T190000Z
DTEND:20260320T200000Z
LOCATION:Campusbad (Thomas-Fincke-Straße 19\, 24943 Flensburg)
SUMMARY:Flossenschwimmen\, Fr 20:00 - 21:00 Uhr
URL:https://www.uc-baltic.de/veranstaltungen/kalender/ereignis/1789-flossen
 schwimmen-fr-20-00-21-00-uhr
END:VEVENT
BEGIN:VEVENT
UID:20260419T150715CEST-1931LfG3ah@https://www.uc-baltic.de/
DTSTAMP:20260419T130715Z
DESCRIPTION:DTSA* Prüfung im ClubheimUm Rücksichtnahme wird gebeten! https:
 //www.uc-baltic.de/veranstaltungen/kalender/ereignis/1805-dtsa-pruefung
DTSTART:20260322T090000Z
DTEND:20260322T103000Z
LOCATION:Unterwasserclub Baltic e.V.  (Fahrensodde 20\, 24944 Flensburg)
SUMMARY:DTSA* Prüfung
URL:https://www.uc-baltic.de/veranstaltungen/kalender/ereignis/1805-dtsa-pr
 uefung
END:VEVENT
END:VCALENDAR
