BEGIN:VCALENDAR
VERSION:2.0
PRODID:-//https://www.uc-baltic.de///NONSGML kigkonsult.se iCalcreator 2.10.15//
METHOD:PUBLISH
BEGIN:VEVENT
UID:20260423T092918CEST-09762PJRu5@https://www.uc-baltic.de/
DTSTAMP:20260423T072918Z
DESCRIPTION: https://www.uc-baltic.de/veranstaltungen/kalender/ereignis/861
 -flossenschwimmen-mo-19-20-uhr
DTSTART:20240311T180000Z
DTEND:20240311T190000Z
LOCATION:Campusbad (Thomas-Fincke-Straße 19\, 24943 Flensburg)
SUMMARY:Flossenschwimmen\, Mo 19 - 20 Uhr
URL:https://www.uc-baltic.de/veranstaltungen/kalender/ereignis/861-flossens
 chwimmen-mo-19-20-uhr
END:VEVENT
BEGIN:VEVENT
UID:20260423T092918CEST-0980PGEpx8@https://www.uc-baltic.de/
DTSTAMP:20260423T072918Z
DESCRIPTION: https://www.uc-baltic.de/veranstaltungen/kalender/ereignis/873
 -flossenschwimmen-mo-20-21-uhr
DTSTART:20240311T190000Z
DTEND:20240311T200000Z
LOCATION:Campusbad (Thomas-Fincke-Straße 19\, 24943 Flensburg)
SUMMARY:Flossenschwimmen\, Mo 20 - 21 Uhr
URL:https://www.uc-baltic.de/veranstaltungen/kalender/ereignis/873-flossens
 chwimmen-mo-20-21-uhr
END:VEVENT
BEGIN:VEVENT
UID:20260423T092918CEST-0982D5XKpW@https://www.uc-baltic.de/
DTSTAMP:20260423T072918Z
DESCRIPTION: https://www.uc-baltic.de/veranstaltungen/kalender/ereignis/897
 -flossenschwimmen-di-19-20-uhr
DTSTART:20240312T180000Z
DTEND:20240312T190000Z
LOCATION:Campusbad (Thomas-Fincke-Straße 19\, 24943 Flensburg)
SUMMARY:Flossenschwimmen\, Di 19 - 20 Uhr
URL:https://www.uc-baltic.de/veranstaltungen/kalender/ereignis/897-flossens
 chwimmen-di-19-20-uhr
END:VEVENT
BEGIN:VEVENT
UID:20260423T092918CEST-09856uvwzb@https://www.uc-baltic.de/
DTSTAMP:20260423T072918Z
DESCRIPTION: https://www.uc-baltic.de/veranstaltungen/kalender/ereignis/909
 -flossenschwimmen-do-16-17-uhr
DTSTART:20240314T150000Z
DTEND:20240314T160000Z
LOCATION:Campusbad (Thomas-Fincke-Straße 19\, 24943 Flensburg)
SUMMARY:Flossenschwimmen\, Do 16 - 17 Uhr
URL:https://www.uc-baltic.de/veranstaltungen/kalender/ereignis/909-flossens
 chwimmen-do-16-17-uhr
END:VEVENT
BEGIN:VEVENT
UID:20260423T092918CEST-0988KLILOL@https://www.uc-baltic.de/
DTSTAMP:20260423T072918Z
DESCRIPTION:Bei Schnuppertauchen bitte gegenseitig Rücksicht nehmen. Die Ta
 ucher übernehmen keine Beckenaufsicht!! Eine Bitte des Campusbades\, dass 
 bitte einer die Schlüssel für die gesamte Gruppe an der Kasse abholen. htt
 ps://www.uc-baltic.de/veranstaltungen/kalender/ereignis/937-flossenschwimm
 en-fr-20-21-uhr-bahn-5
DTSTART:20240315T190000Z
DTEND:20240315T200000Z
LOCATION:Campusbad (Thomas-Fincke-Straße 19\, 24943 Flensburg)
SUMMARY:Flossenschwimmen\, Fr 20 -21 Uhr\, Bahn 5
URL:https://www.uc-baltic.de/veranstaltungen/kalender/ereignis/937-flossens
 chwimmen-fr-20-21-uhr-bahn-5
END:VEVENT
BEGIN:VEVENT
UID:20260423T092918CEST-09913GJAAt@https://www.uc-baltic.de/
DTSTAMP:20260423T072918Z
DESCRIPTION: https://www.uc-baltic.de/veranstaltungen/kalender/ereignis/970
 -uw-rugby-mo-20-21-uhr
DTSTART:20240311T190000Z
DTEND:20240311T200000Z
LOCATION:Campusbad (Thomas-Fincke-Straße 19\, 24943 Flensburg)
SUMMARY:UW-Rugby\, Mo 20 - 21 Uhr
URL:https://www.uc-baltic.de/veranstaltungen/kalender/ereignis/970-uw-rugby
 -mo-20-21-uhr
END:VEVENT
END:VCALENDAR
