BEGIN:VCALENDAR
VERSION:2.0
PRODID:-//https://www.uc-baltic.de///NONSGML kigkonsult.se iCalcreator 2.10.15//
METHOD:PUBLISH
BEGIN:VEVENT
UID:20260422T110005CEST-3759GfEkIc@https://www.uc-baltic.de/
DTSTAMP:20260422T090005Z
DESCRIPTION:Treffen und Einlass: 15:45 Uhr https://www.uc-baltic.de/veranst
 altungen/kalender/ereignis/1326-flossenschwimmen-do-16-00-17-00-uhr
DTSTART:20250313T150000Z
DTEND:20250313T160000Z
LOCATION:Campusbad (Thomas-Fincke-Straße 19\, 24943 Flensburg)
SUMMARY:Flossenschwimmen\, Do 16:00 - 17:00 Uhr
URL:https://www.uc-baltic.de/veranstaltungen/kalender/ereignis/1326-flossen
 schwimmen-do-16-00-17-00-uhr
END:VEVENT
BEGIN:VEVENT
UID:20260422T110005CEST-37627Wn9iV@https://www.uc-baltic.de/
DTSTAMP:20260422T090005Z
DESCRIPTION:Treffen und Einlass: 19:45 Uhr https://www.uc-baltic.de/veranst
 altungen/kalender/ereignis/1340-flossenschwimmen-fr-20-00-21-00-uhr
DTSTART:20250314T190000Z
DTEND:20250314T200000Z
LOCATION:Campusbad (Thomas-Fincke-Straße 19\, 24943 Flensburg)
SUMMARY:Flossenschwimmen\, Fr 20:00 - 21:00 Uhr
URL:https://www.uc-baltic.de/veranstaltungen/kalender/ereignis/1340-flossen
 schwimmen-fr-20-00-21-00-uhr
END:VEVENT
BEGIN:VEVENT
UID:20260422T110005CEST-3766scWake@https://www.uc-baltic.de/
DTSTAMP:20260422T090005Z
DESCRIPTION:Treffen und Einlass: 18:45 Uhr https://www.uc-baltic.de/veranst
 altungen/kalender/ereignis/1352-flossenschwimmen-mo-19-00-20-00-uhr
DTSTART:20250310T180000Z
DTEND:20250310T200000Z
LOCATION:Campusbad (Thomas-Fincke-Straße 19\, 24943 Flensburg)
SUMMARY:Flossenschwimmen\, Mo 19:00 - 20:00 Uhr
URL:https://www.uc-baltic.de/veranstaltungen/kalender/ereignis/1352-flossen
 schwimmen-mo-19-00-20-00-uhr
END:VEVENT
BEGIN:VEVENT
UID:20260422T110005CEST-3768lSzu0h@https://www.uc-baltic.de/
DTSTAMP:20260422T090005Z
DESCRIPTION:Treffen und Einlass: 19:45 Uhr https://www.uc-baltic.de/veranst
 altungen/kalender/ereignis/1365-flossenschwimmen-mo-20-00-21-00-uhr
DTSTART:20250310T190000Z
DTEND:20250310T200000Z
LOCATION:Campusbad (Thomas-Fincke-Straße 19\, 24943 Flensburg)
SUMMARY:Flossenschwimmen\, Mo 20:00 - 21:00 Uhr
URL:https://www.uc-baltic.de/veranstaltungen/kalender/ereignis/1365-flossen
 schwimmen-mo-20-00-21-00-uhr
END:VEVENT
BEGIN:VEVENT
UID:20260422T110005CEST-3770VVK4zW@https://www.uc-baltic.de/
DTSTAMP:20260422T090005Z
DESCRIPTION:Treffen und Einlass: 19:45 Uhr https://www.uc-baltic.de/veranst
 altungen/kalender/ereignis/1378-uw-rugby-mo-20-00-21-00-uhr
DTSTART:20250310T190000Z
DTEND:20250310T200000Z
LOCATION:Campusbad (Thomas-Fincke-Straße 19\, 24943 Flensburg)
SUMMARY:UW-Rugby\, Mo 20:00 - 21:00 Uhr
URL:https://www.uc-baltic.de/veranstaltungen/kalender/ereignis/1378-uw-rugb
 y-mo-20-00-21-00-uhr
END:VEVENT
BEGIN:VEVENT
UID:20260422T110005CEST-3772bGFiHk@https://www.uc-baltic.de/
DTSTAMP:20260422T090005Z
DESCRIPTION:Treffen und Einlass: 18:45 Uhr https://www.uc-baltic.de/veranst
 altungen/kalender/ereignis/1391-flossenschwimmen-di-19-00-20-00-uhr
DTSTART:20250311T180000Z
DTEND:20250311T190000Z
LOCATION:Campusbad (Thomas-Fincke-Straße 19\, 24943 Flensburg)
SUMMARY:Flossenschwimmen\, Di 19:00 - 20:00 Uhr
URL:https://www.uc-baltic.de/veranstaltungen/kalender/ereignis/1391-flossen
 schwimmen-di-19-00-20-00-uhr
END:VEVENT
END:VCALENDAR
